BEGIN:VCALENDAR
VERSION:2.0
PRODID:-//Amamcs - Amis du Musée d&#039;Art Moderne et Contemporain de Strasbourg - ECPv6.15.20//NONSGML v1.0//EN
CALSCALE:GREGORIAN
METHOD:PUBLISH
X-WR-CALNAME:Amamcs - Amis du Musée d&#039;Art Moderne et Contemporain de Strasbourg
X-ORIGINAL-URL:https://amamcs.net
X-WR-CALDESC:Évènements pour Amamcs - Amis du Musée d&#039;Art Moderne et Contemporain de Strasbourg
REFRESH-INTERVAL;VALUE=DURATION:PT1H
X-Robots-Tag:noindex
X-PUBLISHED-TTL:PT1H
BEGIN:VTIMEZONE
TZID:Europe/Paris
BEGIN:DAYLIGHT
TZOFFSETFROM:+0100
TZOFFSETTO:+0200
TZNAME:CEST
DTSTART:20240331T010000
END:DAYLIGHT
BEGIN:STANDARD
TZOFFSETFROM:+0200
TZOFFSETTO:+0100
TZNAME:CET
DTSTART:20241027T010000
END:STANDARD
BEGIN:DAYLIGHT
TZOFFSETFROM:+0100
TZOFFSETTO:+0200
TZNAME:CEST
DTSTART:20250330T010000
END:DAYLIGHT
BEGIN:STANDARD
TZOFFSETFROM:+0200
TZOFFSETTO:+0100
TZNAME:CET
DTSTART:20251026T010000
END:STANDARD
BEGIN:DAYLIGHT
TZOFFSETFROM:+0100
TZOFFSETTO:+0200
TZNAME:CEST
DTSTART:20260329T010000
END:DAYLIGHT
BEGIN:STANDARD
TZOFFSETFROM:+0200
TZOFFSETTO:+0100
TZNAME:CET
DTSTART:20261025T010000
END:STANDARD
END:VTIMEZONE
BEGIN:VEVENT
DTSTART;VALUE=DATE:20251123
DTEND;VALUE=DATE:20251124
DTSTAMP:20260426T052731
CREATED:20251008T111719Z
LAST-MODIFIED:20251023T161620Z
UID:20170-1763856000-1763942399@amamcs.net
SUMMARY:Journée à Berne - expositions Ernst Ludwig Kirchner et Ferdinand Hodler
DESCRIPTION:Le dimanche 23 novembre nous espérons vous retrouver nombreux pour une nouvelle journée dans les musées de Berne. Pour rester dans un coût de sortie abordable\, nous avons fait le choix de ne pas vous proposer de visites guidées. \nNous commencerons notre journée au Zentrum Paul Klee par la visite libre des expositions consacrées à deux artistes importantes du XXe siècle décédées la même année : Anni Albers et Gertrud Godschmitt. \nNous nous rendrons ensuite au Kunstmuseum où vous pourrez découvrir librement les expositions Kirchner × Kirchner ainsi que Panorama Suisse. De Caspar Wolf à Ferdinand Hodler \nProgramme et bulletin d’inscription -Berne le 23 novembre 2025
URL:https://amamcs.net/evenement/journee-a-berne-expositions-ernst-ludwig-kirchner-et-ferdinand-hodler/
LOCATION:Berne\, Suisse
CATEGORIES:Excursions
ATTACH;FMTTYPE=image/jpeg:https://amamcs.net/wp-content/uploads/2025/10/6d19ccd_upload-1-mmfjodmugpd9-kirchner.jpg
END:VEVENT
END:VCALENDAR