BEGIN:VCALENDAR
VERSION:2.0
PRODID:-//Amamcs - Amis du Musée d&#039;Art Moderne et Contemporain de Strasbourg - ECPv6.15.20//NONSGML v1.0//EN
CALSCALE:GREGORIAN
METHOD:PUBLISH
X-ORIGINAL-URL:https://amamcs.net
X-WR-CALDESC:Évènements pour Amamcs - Amis du Musée d&#039;Art Moderne et Contemporain de Strasbourg
REFRESH-INTERVAL;VALUE=DURATION:PT1H
X-Robots-Tag:noindex
X-PUBLISHED-TTL:PT1H
BEGIN:VTIMEZONE
TZID:Europe/Paris
BEGIN:DAYLIGHT
TZOFFSETFROM:+0100
TZOFFSETTO:+0200
TZNAME:CEST
DTSTART:20250330T010000
END:DAYLIGHT
BEGIN:STANDARD
TZOFFSETFROM:+0200
TZOFFSETTO:+0100
TZNAME:CET
DTSTART:20251026T010000
END:STANDARD
BEGIN:DAYLIGHT
TZOFFSETFROM:+0100
TZOFFSETTO:+0200
TZNAME:CEST
DTSTART:20260329T010000
END:DAYLIGHT
BEGIN:STANDARD
TZOFFSETFROM:+0200
TZOFFSETTO:+0100
TZNAME:CET
DTSTART:20261025T010000
END:STANDARD
BEGIN:DAYLIGHT
TZOFFSETFROM:+0100
TZOFFSETTO:+0200
TZNAME:CEST
DTSTART:20270328T010000
END:DAYLIGHT
BEGIN:STANDARD
TZOFFSETFROM:+0200
TZOFFSETTO:+0100
TZNAME:CET
DTSTART:20271031T010000
END:STANDARD
END:VTIMEZONE
BEGIN:VEVENT
DTSTART;VALUE=DATE:20260207
DTEND;VALUE=DATE:20260208
DTSTAMP:20260425T234835
CREATED:20260120T104357Z
LAST-MODIFIED:20260120T134642Z
UID:20253-1770422400-1770508799@amamcs.net
SUMMARY:Journée Camille Claus - Gunstett - Bischwiller - Haguenau
DESCRIPTION:Avec l’Association l’Île du Peintre Camille Claus et les Amis de la Médiathèque Protestante de Strasbourg\, nous vous proposons\, le samedi 7 février\, une journée Camille Claus organisée par Jean-Louis Mandel\, vice-président des AMAMCS dans le cadre de l’exposition « Les icônes de la présence » actuellement présentée à la Médiathèque Protestante du Stift. \nVous trouverez\, en pièce jointe à ce courriel\, le programme de la journée et le bulletin d’inscription à retourner par mail ou par courrier à Jean-Louis Mandel. \nProgramme et bulletin d’inscription – Gunstett – 7 février 2026
URL:https://amamcs.net/evenement/journee-camille-claus-gunstett-bischwiller-haguenau/
LOCATION:Gunstett\, Gunstett\, France
CATEGORIES:Excursions
ATTACH;FMTTYPE=image/webp:https://amamcs.net/wp-content/uploads/2026/01/expo-camille-clauss-2026.webp
END:VEVENT
BEGIN:VEVENT
DTSTART;TZID=Europe/Paris:20260207T170000
DTEND;TZID=Europe/Paris:20260207T170000
DTSTAMP:20260425T234835
CREATED:20260120T131913Z
LAST-MODIFIED:20260120T131913Z
UID:20240-1770483600-1770483600@amamcs.net
SUMMARY:Assemblée Générale Ordinaire 2025
DESCRIPTION:Chers Amis du MAMCS\, \nNotre Assemblée Générale Ordinaire aura lieu le samedi 7 février à 17h à l’auditorium du MAMCS.Vous trouverez ici : https://amamcs.net/2026/01/20/assemblee-generale-ordinaire-2025/\, l’invitation à l’AG\, la procuration et le PV de l’Assemblée de 2024\, ainsi que la fiche de cotisation à rapporter si vous souhaitez renouveler votre adhésion avant L’AG. \nNous espérons vous y retrouver nombreux.Bien amicalement.Nadya Cornu
URL:https://amamcs.net/evenement/assemblee-generale-ordinaire-2025/
LOCATION:Auditorium du Mamcs\, 1 place Jean / Hans Arp\, Strasbourg\, 67000
CATEGORIES:Autre
ATTACH;FMTTYPE=image/png:https://amamcs.net/wp-content/uploads/2026/01/visuelAG.png
END:VEVENT
END:VCALENDAR