BEGIN:VCALENDAR
VERSION:2.0
PRODID:-//Amamcs - Amis du Musée d&#039;Art Moderne et Contemporain de Strasbourg - ECPv6.15.20//NONSGML v1.0//EN
CALSCALE:GREGORIAN
METHOD:PUBLISH
X-WR-CALNAME:Amamcs - Amis du Musée d&#039;Art Moderne et Contemporain de Strasbourg
X-ORIGINAL-URL:https://amamcs.net
X-WR-CALDESC:Évènements pour Amamcs - Amis du Musée d&#039;Art Moderne et Contemporain de Strasbourg
REFRESH-INTERVAL;VALUE=DURATION:PT1H
X-Robots-Tag:noindex
X-PUBLISHED-TTL:PT1H
BEGIN:VTIMEZONE
TZID:Europe/Paris
BEGIN:DAYLIGHT
TZOFFSETFROM:+0100
TZOFFSETTO:+0200
TZNAME:CEST
DTSTART:20140330T010000
END:DAYLIGHT
BEGIN:STANDARD
TZOFFSETFROM:+0200
TZOFFSETTO:+0100
TZNAME:CET
DTSTART:20141026T010000
END:STANDARD
BEGIN:DAYLIGHT
TZOFFSETFROM:+0100
TZOFFSETTO:+0200
TZNAME:CEST
DTSTART:20150329T010000
END:DAYLIGHT
BEGIN:STANDARD
TZOFFSETFROM:+0200
TZOFFSETTO:+0100
TZNAME:CET
DTSTART:20151025T010000
END:STANDARD
BEGIN:DAYLIGHT
TZOFFSETFROM:+0100
TZOFFSETTO:+0200
TZNAME:CEST
DTSTART:20160327T010000
END:DAYLIGHT
BEGIN:STANDARD
TZOFFSETFROM:+0200
TZOFFSETTO:+0100
TZNAME:CET
DTSTART:20161030T010000
END:STANDARD
END:VTIMEZONE
BEGIN:VEVENT
DTSTART;VALUE=DATE:20150123
DTEND;VALUE=DATE:20150124
DTSTAMP:20260422T005039
CREATED:20220123T150346Z
LAST-MODIFIED:20220128T174306Z
UID:18852-1421971200-1422057599@amamcs.net
SUMMARY:Journée à Nancy - Les Rouart + matinée à l'opéra
DESCRIPTION:Dimanche le 4 janvier 2015 \nExposition « Les Rouart » de l’impressionisme au réalisme magique. Au Musée des Beaux Arts de Nancy\, avec la complicité de Jean-Marie Rouart de l’Académie Française\, cet accrochage exceptionnel souhaite faire découvrir au public le plus large l’extraordinaire aventure picturale de cette famille.\nAutour de la figure d’Henri Rouart\, grand collectionneur et peintre lui-même à la fin de sa vie\, viennent se greffer les liens amicaux tressés\, entre autre\, avec Edgar Degas\, Édouard Manet et Berthe Morisot. Son fils Ernest\, époux de Julie Manet et son petit-fils Augustin\, proche de Maurice Denis\, un « moderne des années 30 » pour reprendre le titre d’un essai du professeur Bruno Foucart\, constituent les autres figures marquantes de cette exposition.\nA travers trois générations d’artistes\, portraits\, paysages et natures mortes permettront de redécouvrir l’originalité de cette famille d’artistes et de collectionneurs. \n A 15 heures à l’Opéra de Nancy : \n– The Kid\, film muet de Charles Chaplin en ciné-concert\, projeté dans la grande salle avec l’Orchestre symphonique et lyrique de Nancy \n– Les mamelles de Tirésias\, opéra -bouffe de Francis Poulenc (d’après une pièce de Guillaume Appolinaire): Zanzibar\, sa politique nataliste et madame Thérèse qui abandonne ses généreux attributs… Elle se préfère en Tirésias\, général\, député et pourquoi pas ministre ! Il ne reste alors au pauvre mari qu’à assumer le rôle fertile femelle… et ça marche ! Arrivent ensuite un gendarme entreprenant\, un journaliste plutôt encombrant\, une cartomancienne encourageante… c’est Thérèse redevenue femelle mais qui ne veut toujours pas faire d’enfants… Féministe\, pessimiste ou tout simplement… surréaliste ?\nEn version concertante. Prix spécial des places 55 et 46 euros. \nDépart : 8 heures de Strasbourg (rendez-vous devant le Maillon Wacken à Strasbourg)\, retour  : vers 18h30/19h30. \nPrix du voyage : 80 euros (billet d’Opéra compris à 55 euros) 71 euros pour les places à 46 euros \nPrix de voyage : 25 euros pour celles et ceux qui feront la visite de l’atelier d’artiste de Victor Rarès \nFICHE D’INSCRIPTION   à   RETOURNER à   Nicole   CHAMPY \n26\, RUE du Général Ducrot 67000 STRASBOURG – TEL 06 89 54 84 47 – mail nicole.champt@orange.fr \n(Chèque à l’ordre de A M A M C S) \nNOM ET PRENOM   \nADRESSE \nADRESSE ELECTRONIQUE \nPrix du voyage : 80 euros (billet d’Opéra compris à 55 euros) 71 euros pour les places à 46 euros \nPrix de voyage : 25 euros pour celles et ceux qui feront la visite de l’atelier d’artiste de Victor Rarès \n(rayez les mentions inutiles)
URL:https://amamcs.net/evenement/journee-a-nancy-les-rouart-matinee-a-lopera/
LOCATION:Musée Beaux Arts de Nancy\, Place Stanislas\, Nancy\, 54000
CATEGORIES:Excursions
END:VEVENT
END:VCALENDAR