BEGIN:VCALENDAR
VERSION:2.0
PRODID:-//Amamcs - Amis du Musée d&#039;Art Moderne et Contemporain de Strasbourg - ECPv6.15.17.1//NONSGML v1.0//EN
CALSCALE:GREGORIAN
METHOD:PUBLISH
X-WR-CALNAME:Amamcs - Amis du Musée d&#039;Art Moderne et Contemporain de Strasbourg
X-ORIGINAL-URL:https://amamcs.net
X-WR-CALDESC:Évènements pour Amamcs - Amis du Musée d&#039;Art Moderne et Contemporain de Strasbourg
REFRESH-INTERVAL;VALUE=DURATION:PT1H
X-Robots-Tag:noindex
X-PUBLISHED-TTL:PT1H
BEGIN:VTIMEZONE
TZID:Europe/Paris
BEGIN:DAYLIGHT
TZOFFSETFROM:+0100
TZOFFSETTO:+0200
TZNAME:CEST
DTSTART:20140330T010000
END:DAYLIGHT
BEGIN:STANDARD
TZOFFSETFROM:+0200
TZOFFSETTO:+0100
TZNAME:CET
DTSTART:20141026T010000
END:STANDARD
BEGIN:DAYLIGHT
TZOFFSETFROM:+0100
TZOFFSETTO:+0200
TZNAME:CEST
DTSTART:20150329T010000
END:DAYLIGHT
BEGIN:STANDARD
TZOFFSETFROM:+0200
TZOFFSETTO:+0100
TZNAME:CET
DTSTART:20151025T010000
END:STANDARD
BEGIN:DAYLIGHT
TZOFFSETFROM:+0100
TZOFFSETTO:+0200
TZNAME:CEST
DTSTART:20160327T010000
END:DAYLIGHT
BEGIN:STANDARD
TZOFFSETFROM:+0200
TZOFFSETTO:+0100
TZNAME:CET
DTSTART:20161030T010000
END:STANDARD
END:VTIMEZONE
BEGIN:VEVENT
DTSTART;VALUE=DATE:20150530
DTEND;VALUE=DATE:20150531
DTSTAMP:20260421T174127
CREATED:20220123T112835Z
LAST-MODIFIED:20220123T112835Z
UID:18812-1432944000-1433030399@amamcs.net
SUMMARY:Weisgerber à Sarrebruck + Völklingen
DESCRIPTION:samedi 30 mai 2015 : sortie à Sarrebrück (rétrospective d’Albert Weisberger) et à Völklingen (Urban Art Biennale) \n    7h30: départ devant le Maillon-Wacken\n    10h: visite libre de la rétrospective d’Albert Weisberger et de la collection permanente du Kunstmuseum\n    déjeuner libre\n    14h30: visite guidée de la Biennale d’art urbain à la Völklinger Hütte\n    19h30: retour prévu
URL:https://amamcs.net/evenement/weisgerber-a-sarrebruck-volklingen/
LOCATION:Sarrebrück\, Sarrebrück\, Allemagne
CATEGORIES:Excursions
END:VEVENT
END:VCALENDAR