BEGIN:VCALENDAR
VERSION:2.0
PRODID:-//Amamcs - Amis du Musée d&#039;Art Moderne et Contemporain de Strasbourg - ECPv6.15.17.1//NONSGML v1.0//EN
CALSCALE:GREGORIAN
METHOD:PUBLISH
X-WR-CALNAME:Amamcs - Amis du Musée d&#039;Art Moderne et Contemporain de Strasbourg
X-ORIGINAL-URL:https://amamcs.net
X-WR-CALDESC:Évènements pour Amamcs - Amis du Musée d&#039;Art Moderne et Contemporain de Strasbourg
REFRESH-INTERVAL;VALUE=DURATION:PT1H
X-Robots-Tag:noindex
X-PUBLISHED-TTL:PT1H
BEGIN:VTIMEZONE
TZID:Europe/Paris
BEGIN:DAYLIGHT
TZOFFSETFROM:+0100
TZOFFSETTO:+0200
TZNAME:CEST
DTSTART:20150329T010000
END:DAYLIGHT
BEGIN:STANDARD
TZOFFSETFROM:+0200
TZOFFSETTO:+0100
TZNAME:CET
DTSTART:20151025T010000
END:STANDARD
BEGIN:DAYLIGHT
TZOFFSETFROM:+0100
TZOFFSETTO:+0200
TZNAME:CEST
DTSTART:20160327T010000
END:DAYLIGHT
BEGIN:STANDARD
TZOFFSETFROM:+0200
TZOFFSETTO:+0100
TZNAME:CET
DTSTART:20161030T010000
END:STANDARD
BEGIN:DAYLIGHT
TZOFFSETFROM:+0100
TZOFFSETTO:+0200
TZNAME:CEST
DTSTART:20170326T010000
END:DAYLIGHT
BEGIN:STANDARD
TZOFFSETFROM:+0200
TZOFFSETTO:+0100
TZNAME:CET
DTSTART:20171029T010000
END:STANDARD
BEGIN:DAYLIGHT
TZOFFSETFROM:+0100
TZOFFSETTO:+0200
TZNAME:CEST
DTSTART:20180325T010000
END:DAYLIGHT
BEGIN:STANDARD
TZOFFSETFROM:+0200
TZOFFSETTO:+0100
TZNAME:CET
DTSTART:20181028T010000
END:STANDARD
END:VTIMEZONE
BEGIN:VEVENT
DTSTART;VALUE=DATE:20161210
DTEND;VALUE=DATE:20170327
DTSTAMP:20260421T121127
CREATED:20220122T233627Z
LAST-MODIFIED:20220122T233627Z
UID:18679-1481328000-1490572799@amamcs.net
SUMMARY:Focus 2 de « L’œil du collectionneur\, neuf collections particulières »
DESCRIPTION:Du 10 décembre 2016 au 26 mars 2017 \nLe désir est partout – Collection Lionel Van der Gucht\nCollectionner les formes – Collection privée\nComme une respiration – Collection Madeleine Millot-Durrenberger\nVoies de la peinture figurative contemporaine – Collection Jean Brolly – Collection privée\nLa possibilité d’une collection – Collection G + M Burg (poursuite de la présentation du Focus 1)\nEtre et à voir – Collection J + C Mairet (partie de la présentation du Focus 1)\,
URL:https://amamcs.net/evenement/focus-2-de-loeil-du-collectionneur-neuf-collections-particulieres/
LOCATION:Mamcs\, 1 place Hans Jean Arp\, Strasbourg\, 67000
CATEGORIES:Expositions
END:VEVENT
END:VCALENDAR