BEGIN:VCALENDAR
VERSION:2.0
PRODID:-//Amamcs - Amis du Musée d&#039;Art Moderne et Contemporain de Strasbourg - ECPv6.15.20//NONSGML v1.0//EN
CALSCALE:GREGORIAN
METHOD:PUBLISH
X-WR-CALNAME:Amamcs - Amis du Musée d&#039;Art Moderne et Contemporain de Strasbourg
X-ORIGINAL-URL:https://amamcs.net
X-WR-CALDESC:Évènements pour Amamcs - Amis du Musée d&#039;Art Moderne et Contemporain de Strasbourg
REFRESH-INTERVAL;VALUE=DURATION:PT1H
X-Robots-Tag:noindex
X-PUBLISHED-TTL:PT1H
BEGIN:VTIMEZONE
TZID:Europe/Paris
BEGIN:DAYLIGHT
TZOFFSETFROM:+0100
TZOFFSETTO:+0200
TZNAME:CEST
DTSTART:20210328T010000
END:DAYLIGHT
BEGIN:STANDARD
TZOFFSETFROM:+0200
TZOFFSETTO:+0100
TZNAME:CET
DTSTART:20211031T010000
END:STANDARD
BEGIN:DAYLIGHT
TZOFFSETFROM:+0100
TZOFFSETTO:+0200
TZNAME:CEST
DTSTART:20220327T010000
END:DAYLIGHT
BEGIN:STANDARD
TZOFFSETFROM:+0200
TZOFFSETTO:+0100
TZNAME:CET
DTSTART:20221030T010000
END:STANDARD
BEGIN:DAYLIGHT
TZOFFSETFROM:+0100
TZOFFSETTO:+0200
TZNAME:CEST
DTSTART:20230326T010000
END:DAYLIGHT
BEGIN:STANDARD
TZOFFSETFROM:+0200
TZOFFSETTO:+0100
TZNAME:CET
DTSTART:20231029T010000
END:STANDARD
END:VTIMEZONE
BEGIN:VEVENT
DTSTART;TZID=Europe/Paris:20220203T153000
DTEND;TZID=Europe/Paris:20220203T153000
DTSTAMP:20260423T193541
CREATED:20220119T220803Z
LAST-MODIFIED:20220126T133111Z
UID:18501-1643902200-1643902200@amamcs.net
SUMMARY:La Marseillaise
DESCRIPTION:Visite de l’exposition « La Marseillaise » au MAMCS\, commentée par Monique Fuchs\, conservatrice en chef du Musée Historique et co-commissaire de l’exposition\, le jeudi 3 février à 15h30. \nPour cette visite\, le groupe est limité à 20 personnes. Il est donc nécessaire de vous inscrire auprès de   nadya.cornu@gmail.com
URL:https://amamcs.net/evenement/la-marseillaise/
LOCATION:Mamcs\, 1 place Hans Jean Arp\, Strasbourg\, 67000
CATEGORIES:Visites commentées
ATTACH;FMTTYPE=image/jpeg:https://amamcs.net/wp-content/uploads/2022/01/marseillaise.jpg
END:VEVENT
BEGIN:VEVENT
DTSTART;TZID=Europe/Paris:20220204T164500
DTEND;TZID=Europe/Paris:20220204T164500
DTSTAMP:20260423T193541
CREATED:20220104T191636Z
LAST-MODIFIED:20220104T193743Z
UID:16976-1643993100-1643993100@amamcs.net
SUMMARY:Chiara Camoni
DESCRIPTION:Visite commentée par Gérald Wagner de l’exposition de Chiara Camoni\, puis nous pourrons assister à une performance de l’artiste à 18h.\nDans une tradition héritée de l’arte povera et de savoir-faire ancestraux Chiara Camoni réalise des oeuvres à partir de matériaux naturels et locaux. L’exposition « La Meraviglia » revient sur 15 ans de sa carrière. \nLes groupes seront contingentés pour ces visites\, il est donc nécessaire de vous inscrire auprès de  nadya.cornu@gmail.com
URL:https://amamcs.net/evenement/chiara-camoni/
LOCATION:CEAAC – Centre européen d’actions artistiques contemporaines\, 7 rue Abreuvoir\, Strasbourg\, 67000\, France
CATEGORIES:Visites commentées
ATTACH;FMTTYPE=image/jpeg:https://amamcs.net/wp-content/uploads/2022/01/05_DSC2889_web-1217x813-1.jpg
END:VEVENT
BEGIN:VEVENT
DTSTART;TZID=Europe/Paris:20220209T110000
DTEND;TZID=Europe/Paris:20220209T110000
DTSTAMP:20260423T193541
CREATED:20220119T233151Z
LAST-MODIFIED:20220126T133248Z
UID:18525-1644404400-1644404400@amamcs.net
SUMMARY:La Marseillaise
DESCRIPTION:Visite de l’exposition « La Marseillaise » au MAMCS\, commentée par Monique Fuchs\, conservatrice en chef du Musée Historique et co-commissaire de l’exposition\, le jeudi 3 février à 15h30. \nPour cette visite\, le groupe est limité à 20 personnes. Il est donc nécessaire de vous inscrire auprès de   nadya.cornu@gmail.com
URL:https://amamcs.net/evenement/la-marseillaise-2/
LOCATION:Mamcs\, 1 place Hans Jean Arp\, Strasbourg\, 67000
CATEGORIES:Visites commentées
ATTACH;FMTTYPE=image/jpeg:https://amamcs.net/wp-content/uploads/2022/01/marseillaise.jpg
END:VEVENT
BEGIN:VEVENT
DTSTART;TZID=Europe/Paris:20220211T150000
DTEND;TZID=Europe/Paris:20220211T150000
DTSTAMP:20260423T193541
CREATED:20220119T225223Z
LAST-MODIFIED:20220119T225223Z
UID:18519-1644591600-1644591600@amamcs.net
SUMMARY:"Mondes Flottants" de Stéphane Belzère
DESCRIPTION:Estelle Pietrzyk\, conservatrice en chef du MAMCS\, nous accompagnera pour la visite de l’exposition « Mondes Flottants » de Stéphane Belzère au MAMCS. \nPour cette visite qui se fera dans le respect des règles sanitaires\, merci de vous inscrire auprès de nadya.cornu@gmail.com
URL:https://amamcs.net/evenement/mondes-flottants-de-stephane-belzere/
LOCATION:Mamcs\, 1 place Hans Jean Arp\, Strasbourg\, 67000
CATEGORIES:Visites commentées
ATTACH;FMTTYPE=image/jpeg:https://amamcs.net/wp-content/uploads/2022/01/affi_MondesFlo_A3_201021_image-revue_page-0001.jpeg
END:VEVENT
BEGIN:VEVENT
DTSTART;TZID=Europe/Paris:20220218T100000
DTEND;TZID=Europe/Paris:20220218T100000
DTSTAMP:20260423T193541
CREATED:20220127T183739Z
LAST-MODIFIED:20220128T212735Z
UID:19156-1645178400-1645178400@amamcs.net
SUMMARY:Regards sur l'Art Contemporain en Alsace
DESCRIPTION:Vendredi 18 février à 17h\, une visite commentée de l’exposition qu’organise l’association  » Regards sur l’Art Contemporain en Alsace » à l’Espace Apollonia\, 23 rue Boecklin à Strasbourg. Informations en PJ. \nMerci de vous inscrire auprès de nadya.cornu@gmail.com
URL:https://amamcs.net/evenement/regards-sur-lart-contemporain-en-alsace/
LOCATION:Espace Apollonia\, 23 Rue Boecklin\, Strasbourg\, 67000\, France
CATEGORIES:Visites commentées
ATTACH;FMTTYPE=image/jpeg:https://amamcs.net/wp-content/uploads/2022/01/Regards-contempos-alsace.jpg
END:VEVENT
BEGIN:VEVENT
DTSTART;TZID=Europe/Paris:20220223T100000
DTEND;TZID=Europe/Paris:20220223T100000
DTSTAMP:20260423T193541
CREATED:20220127T183126Z
LAST-MODIFIED:20220128T212630Z
UID:19151-1645610400-1645610400@amamcs.net
SUMMARY:"Rires à pleines dents\, six siècles de satire graphique"
DESCRIPTION:Visite de l’exposition « Rires à pleines dents\, six siècles de satire graphique » le mercredi 23 février à 10h au Musée Tomi Ungerer. Elle sera commentée par Madame Willer\, conservatrice en chef du Musée et co-commissaire de l’exposition. \nMerci de vous inscrire auprès de nadya.cornu@gmail.com
URL:https://amamcs.net/evenement/rires-a-pleines-dents-six-siecles-de-satire-graphique/
LOCATION:Musée Tomi Ungerer\, 2 avenue de la Marseillaise - Villa Greiner\, Strasbourg\, 67000\, France
CATEGORIES:Visites commentées
ATTACH;FMTTYPE=image/jpeg:https://amamcs.net/wp-content/uploads/2022/01/0001.jpg
END:VEVENT
END:VCALENDAR