BEGIN:VCALENDAR
VERSION:2.0
PRODID:-//Amamcs - Amis du Musée d&#039;Art Moderne et Contemporain de Strasbourg - ECPv6.15.20//NONSGML v1.0//EN
CALSCALE:GREGORIAN
METHOD:PUBLISH
X-WR-CALNAME:Amamcs - Amis du Musée d&#039;Art Moderne et Contemporain de Strasbourg
X-ORIGINAL-URL:https://amamcs.net
X-WR-CALDESC:Évènements pour Amamcs - Amis du Musée d&#039;Art Moderne et Contemporain de Strasbourg
REFRESH-INTERVAL;VALUE=DURATION:PT1H
X-Robots-Tag:noindex
X-PUBLISHED-TTL:PT1H
BEGIN:VTIMEZONE
TZID:UTC
BEGIN:STANDARD
TZOFFSETFROM:+0000
TZOFFSETTO:+0000
TZNAME:UTC
DTSTART:20210101T000000
END:STANDARD
END:VTIMEZONE
BEGIN:VEVENT
DTSTART;TZID=UTC:20220401T150000
DTEND;TZID=UTC:20220401T150000
DTSTAMP:20260423T160507
CREATED:20220321T080852Z
LAST-MODIFIED:20220321T082652Z
UID:19380-1648825200-1648825200@amamcs.net
SUMMARY:Exposition Marius Pons de Vincent
DESCRIPTION:Nous vous proposons une visite à la galerie EAST\, ouverte dernièrement à Strasbourg\, 12 rue du Faubourg de Pierre\, le vendredi 1er avril à 15h. Nous pourrons voir l’exposition en cours\, consacrée en grande partie à l’artiste Marius Pons de Vincent. 
URL:https://amamcs.net/evenement/exposition-marius-pons-de-vincent/
LOCATION:Galerie East\, 12 Rue du Faubourg-de-Pierre\, Strasbourg\, 67000\, France
CATEGORIES:Visites commentées
ATTACH;FMTTYPE=image/jpeg:https://amamcs.net/wp-content/uploads/2022/03/marius-pons-de-vincent-1.jpg
END:VEVENT
BEGIN:VEVENT
DTSTART;TZID=UTC:20220408T173000
DTEND;TZID=UTC:20220408T173000
DTSTAMP:20260423T160507
CREATED:20220331T074024Z
LAST-MODIFIED:20220331T074213Z
UID:19388-1649439000-1649439000@amamcs.net
SUMMARY:Absence Creates Space - Erik Oldenhof et Helen Vergouwen
DESCRIPTION:Nous vous proposons une visite à la galerie Radial\, vendredi 8 avril à 17h30 pour découvrir le travail de Erik Oldenhof et Helen Vergouwen qui seront présents.
URL:https://amamcs.net/evenement/absence-creates-space-erik-oldenhof-et-helen-vergouwen/
LOCATION:Galerie Radial\, 11 Quai Turckheim\, Strasbourg\, 67000\, France
CATEGORIES:Visites commentées
ATTACH;FMTTYPE=image/jpeg:https://amamcs.net/wp-content/uploads/2022/03/AFFICHE-Erik-Oldenhof-Helen-Vergouwen-.jpg
END:VEVENT
END:VCALENDAR