BEGIN:VCALENDAR
VERSION:2.0
PRODID:-//Amamcs - Amis du Musée d&#039;Art Moderne et Contemporain de Strasbourg - ECPv6.15.20//NONSGML v1.0//EN
CALSCALE:GREGORIAN
METHOD:PUBLISH
X-ORIGINAL-URL:https://amamcs.net
X-WR-CALDESC:Évènements pour Amamcs - Amis du Musée d&#039;Art Moderne et Contemporain de Strasbourg
REFRESH-INTERVAL;VALUE=DURATION:PT1H
X-Robots-Tag:noindex
X-PUBLISHED-TTL:PT1H
BEGIN:VTIMEZONE
TZID:UTC
BEGIN:STANDARD
TZOFFSETFROM:+0000
TZOFFSETTO:+0000
TZNAME:UTC
DTSTART:20210101T000000
END:STANDARD
END:VTIMEZONE
BEGIN:VEVENT
DTSTART;TZID=UTC:20220506T163000
DTEND;TZID=UTC:20220506T163000
DTSTAMP:20260423T141410
CREATED:20220502T152752Z
LAST-MODIFIED:20220502T153935Z
UID:19393-1651854600-1651854600@amamcs.net
SUMMARY:"You'll always be taller than a newspaper" - Charlotte Khouri
DESCRIPTION:Nous vous proposons une visite\, commentée par Gérald Wagner\, de la nouvelle exposition « You’ll always be taller than a newspaper » de Charlotte Khouri au CEAAC\, le vendredi 6 mai 2022 à 16h30. Elle y interroge avec humour notre rapport aux différents médias et à leur aura.
URL:https://amamcs.net/evenement/youll-always-be-taller-than-a-newspaper-charlotte-khouri/
LOCATION:CEAAC – Centre européen d’actions artistiques contemporaines\, 7 rue Abreuvoir\, Strasbourg\, 67000\, France
CATEGORIES:Visites commentées
ATTACH;FMTTYPE=image/jpeg:https://amamcs.net/wp-content/uploads/2022/05/ALWAYS_S001_S001_T011.00_03_58_23.Still001-930x600-1.jpg
END:VEVENT
BEGIN:VEVENT
DTSTART;TZID=UTC:20220520T160000
DTEND;TZID=UTC:20220520T160000
DTSTAMP:20260423T141410
CREATED:20220526T211933Z
LAST-MODIFIED:20220526T221813Z
UID:19406-1653062400-1653062400@amamcs.net
SUMMARY:Exposition de Thomas Mailaender à La Chambre
DESCRIPTION:visite de l’exposition de Thomas Mailaender à La Chambre vendredi 20 mai à 16h.\nIl n’est pas nécessaire de s’inscrire.
URL:https://amamcs.net/evenement/exposition-de-thomas-mailaender-a-la-chambre/
LOCATION:La Chambre\, 4 place d’Austerlitz\, Strasbourg\, 67000
CATEGORIES:Visites commentées
ATTACH;FMTTYPE=image/jpeg:https://amamcs.net/wp-content/uploads/2022/05/mailaender.jpg
END:VEVENT
BEGIN:VEVENT
DTSTART;TZID=UTC:20220531T150000
DTEND;TZID=UTC:20220531T150000
DTSTAMP:20260423T141410
CREATED:20220526T212320Z
LAST-MODIFIED:20220526T214100Z
UID:19408-1654009200-1654009200@amamcs.net
SUMMARY:Rencontre avec Françoise Rochmann dans son atelier
DESCRIPTION:mardi 31 mai à 15h et à 17h\, rencontre avec Françoise Rochmann dans son atelier\, 1 rue des petits prés à Schiltigheim. Elle nous parlera de pastel et d’aquarelle.\nMerci de vous inscrire auprès de nadya.cornu@gmail.com
URL:https://amamcs.net/evenement/rencontre-avec-francoise-rochmann-dans-son-atelier/
LOCATION:Atelier Françoise Rochmann\, 1 rue des petits prés\, Schiltigheim\, 67300
CATEGORIES:Visites commentées
ATTACH;FMTTYPE=image/jpeg:https://amamcs.net/wp-content/uploads/2022/05/rochmann.jpg
END:VEVENT
BEGIN:VEVENT
DTSTART;TZID=UTC:20220531T170000
DTEND;TZID=UTC:20220531T170000
DTSTAMP:20260423T141410
CREATED:20220526T212353Z
LAST-MODIFIED:20220526T214328Z
UID:19411-1654016400-1654016400@amamcs.net
SUMMARY:Rencontre avec Françoise Rochmann dans son atelier
DESCRIPTION:mardi 31 mai à 15h et à 17h\, rencontre avec Françoise Rochmann dans son atelier\, 1 rue des petits prés à Schiltigheim. Elle nous parlera de pastel et d’aquarelle.\nMerci de vous inscrire auprès de nadya.cornu@gmail.com
URL:https://amamcs.net/evenement/rencontre-avec-francoise-rochmann-dans-son-atelier-2/
LOCATION:Atelier Françoise Rochmann\, 1 rue des petits prés\, Schiltigheim\, 67300
CATEGORIES:Visites commentées
ATTACH;FMTTYPE=image/jpeg:https://amamcs.net/wp-content/uploads/2022/05/rochmann.jpg
END:VEVENT
END:VCALENDAR