BEGIN:VCALENDAR
VERSION:2.0
PRODID:-//Amamcs - Amis du Musée d&#039;Art Moderne et Contemporain de Strasbourg - ECPv6.15.20//NONSGML v1.0//EN
CALSCALE:GREGORIAN
METHOD:PUBLISH
X-WR-CALNAME:Amamcs - Amis du Musée d&#039;Art Moderne et Contemporain de Strasbourg
X-ORIGINAL-URL:https://amamcs.net
X-WR-CALDESC:Évènements pour Amamcs - Amis du Musée d&#039;Art Moderne et Contemporain de Strasbourg
REFRESH-INTERVAL;VALUE=DURATION:PT1H
X-Robots-Tag:noindex
X-PUBLISHED-TTL:PT1H
BEGIN:VTIMEZONE
TZID:UTC
BEGIN:STANDARD
TZOFFSETFROM:+0000
TZOFFSETTO:+0000
TZNAME:UTC
DTSTART:20220101T000000
END:STANDARD
END:VTIMEZONE
BEGIN:VEVENT
DTSTART;TZID=UTC:20230325T150000
DTEND;TZID=UTC:20230325T150000
DTSTAMP:20260422T195815
CREATED:20230324T060959Z
LAST-MODIFIED:20230324T061218Z
UID:19600-1679756400-1679756400@amamcs.net
SUMMARY:Galerie Radial\, signature du livre de photos d'Estelle Lagarde
DESCRIPTION:Rendez-vous à la Galerie Radial samedi prochain 25 mars à 15h pour la signature du livre de photos d’Estelle Lagarde.
URL:https://amamcs.net/evenement/galerie-radial-signature-du-livre-de-photos-destelle-lagarde/
LOCATION:Galerie Radial\, 11 Quai Turckheim\, Strasbourg\, 67000\, France
CATEGORIES:Visites commentées
END:VEVENT
BEGIN:VEVENT
DTSTART;TZID=UTC:20230329T150000
DTEND;TZID=UTC:20230329T150000
DTSTAMP:20260422T195815
CREATED:20230324T055906Z
LAST-MODIFIED:20230326T174056Z
UID:19593-1680102000-1680102000@amamcs.net
SUMMARY:"Garde-temps"\, œuvres de Skoda One
DESCRIPTION:Nous vous proposons une visite à la Galerie Inver\, récemment ouverte à Strasbourg\, 44b quai des Bateliers\, mercredi prochain 29 mars à 15H. \nVous pourrez y découvrir l’exposition « Garde-temps » avec les œuvres de Skoda One\, artiste proche de l’art conceptuel\, de l’art brut et du graffiti\, ainsi que des sculptures en porcelaine de Mathilde Cochepin et les tableaux de Nicolas Deconinck. \nIl n’est pas nécessaire de vous inscrire pour cette visite.
URL:https://amamcs.net/evenement/garde-temps-oeuvres-de-skoda-one/
LOCATION:Galerie Inver\, 44b quai des Bateliers\, Strasbourg\, 67000\, France
CATEGORIES:Visites commentées
ATTACH;FMTTYPE=image/jpeg:https://amamcs.net/wp-content/uploads/2023/03/skodaone.jpg
END:VEVENT
END:VCALENDAR