BEGIN:VCALENDAR
VERSION:2.0
PRODID:-//Amamcs - Amis du Musée d&#039;Art Moderne et Contemporain de Strasbourg - ECPv6.15.20//NONSGML v1.0//EN
CALSCALE:GREGORIAN
METHOD:PUBLISH
X-ORIGINAL-URL:https://amamcs.net
X-WR-CALDESC:Évènements pour Amamcs - Amis du Musée d&#039;Art Moderne et Contemporain de Strasbourg
REFRESH-INTERVAL;VALUE=DURATION:PT1H
X-Robots-Tag:noindex
X-PUBLISHED-TTL:PT1H
BEGIN:VTIMEZONE
TZID:Europe/Paris
BEGIN:DAYLIGHT
TZOFFSETFROM:+0100
TZOFFSETTO:+0200
TZNAME:CEST
DTSTART:20220327T010000
END:DAYLIGHT
BEGIN:STANDARD
TZOFFSETFROM:+0200
TZOFFSETTO:+0100
TZNAME:CET
DTSTART:20221030T010000
END:STANDARD
BEGIN:DAYLIGHT
TZOFFSETFROM:+0100
TZOFFSETTO:+0200
TZNAME:CEST
DTSTART:20230326T010000
END:DAYLIGHT
BEGIN:STANDARD
TZOFFSETFROM:+0200
TZOFFSETTO:+0100
TZNAME:CET
DTSTART:20231029T010000
END:STANDARD
BEGIN:DAYLIGHT
TZOFFSETFROM:+0100
TZOFFSETTO:+0200
TZNAME:CEST
DTSTART:20240331T010000
END:DAYLIGHT
BEGIN:STANDARD
TZOFFSETFROM:+0200
TZOFFSETTO:+0100
TZNAME:CET
DTSTART:20241027T010000
END:STANDARD
END:VTIMEZONE
BEGIN:VTIMEZONE
TZID:UTC
BEGIN:STANDARD
TZOFFSETFROM:+0000
TZOFFSETTO:+0000
TZNAME:UTC
DTSTART:20220101T000000
END:STANDARD
END:VTIMEZONE
BEGIN:VEVENT
DTSTART;TZID=Europe/Paris:20230404T160000
DTEND;TZID=Europe/Paris:20230404T160000
DTSTAMP:20260422T181839
CREATED:20230402T083814Z
LAST-MODIFIED:20230402T084723Z
UID:19609-1680624000-1680624000@amamcs.net
SUMMARY:A un cheveu près - Maryam Firuzi et Babak Kazemi\,
DESCRIPTION:L’Espace Apollonia présente actuellement l’exposition « A un cheveu près » qui rassemble des œuvres de Maryam Firuzi et Babak Kazemi\, jeunes artistes iraniens dont les photos nous parlent de leur pays et des problèmes qu’il connaît. \nNous vous en proposons une visite guidée mardi prochain 4 avril à 16h.\nIl n’est pas nécessaire de vous inscrire.
URL:https://amamcs.net/evenement/a-un-cheveu-pres-maryam-firuzi-et-babak-kazemi/
LOCATION:Espace Apollonia\, 23 Rue Boecklin\, Strasbourg\, 67000\, France
CATEGORIES:Visites commentées
ATTACH;FMTTYPE=image/jpeg:https://amamcs.net/wp-content/uploads/2023/04/firuzi.jpg
END:VEVENT
BEGIN:VEVENT
DTSTART;TZID=UTC:20230416T140000
DTEND;TZID=UTC:20230416T160000
DTSTAMP:20260422T181839
CREATED:20230324T060752Z
LAST-MODIFIED:20230324T060752Z
UID:19597-1681653600-1681660800@amamcs.net
SUMMARY:"L'abri de nos rêves"\, galerie Nicole Buck-Hurtigheim
DESCRIPTION:Nous vous invitons à vous joindre à nous le Dimanche 16 Avril . La galerie de Nicole Buck à Hurtigheim propose une belle exposition intitulée L’abri de nos rêves.\nDeux artistes y présentent leurs œuvres  : Marie Amélie Germain que nous connaissons bien et que nous suivons avec grand intérêt et Anne Bulliot\, céramiste\, dont la production est toujours renouvelée avec la plus grande rigueur.\nLes deux artistes seront présentes pour nous entre 14H et 16H.\nC’est avec toujours beaucoup de plaisir que nous nous retrouvons dans ce superbe corps de ferme  dont nous vous rappelons l’adresse : 21 RUE PRINCIPALE HURTIGHEIM.\nMireille Nonnenmacher
URL:https://amamcs.net/evenement/labri-de-nos-reves-galerie-nicole-buck-hurtigheim/
LOCATION:Galerie Nicole Buck\, 21 Rue Principale\, Hurtigheim\, 67117\, France
CATEGORIES:Visites commentées
ATTACH;FMTTYPE=image/png:https://amamcs.net/wp-content/uploads/2023/03/Buck-mars-mai2023.png
END:VEVENT
BEGIN:VEVENT
DTSTART;TZID=Europe/Paris:20230421T103000
DTEND;TZID=Europe/Paris:20230421T103000
DTSTAMP:20260422T181839
CREATED:20230402T090047Z
LAST-MODIFIED:20230402T090226Z
UID:19618-1682073000-1682073000@amamcs.net
SUMMARY:Catherine Meurisse. Une place à soi
DESCRIPTION:Visite de l’exposition de Catherine Meurisse. Une place à soi\, le vendredi 21 avril à 10h30 au Musée Tomi Ungerer.\nC’est Morgane Magnin\, assistante de conservation au musée et commissaire de l’exposition qui nous accompagnera pour cette visite.\nLe nombre de participants est limité. Merci de vous inscrire auprès de nadya.cornu@gmail.com
URL:https://amamcs.net/evenement/catherine-meurisse-une-place-a-soi/
LOCATION:Musée Tomi Ungerer\, 2 avenue de la Marseillaise - Villa Greiner\, Strasbourg\, 67000\, France
CATEGORIES:Visites commentées
ATTACH;FMTTYPE=image/jpeg:https://amamcs.net/wp-content/uploads/2023/04/Catherine-Meurisse-Une-place-a-soi.jpg
END:VEVENT
BEGIN:VEVENT
DTSTART;TZID=Europe/Paris:20230426T160000
DTEND;TZID=Europe/Paris:20230426T160000
DTSTAMP:20260422T181839
CREATED:20230421T181122Z
LAST-MODIFIED:20230421T182232Z
UID:19621-1682524800-1682524800@amamcs.net
SUMMARY:Passé\, présent\, avenir d'œuvres récupérées en Allemagne en 1945\, les MNR des musées de Strasbourg
DESCRIPTION:Une seconde visite de l’exposition « Passé\, présent\, avenir d’œuvres récupérées en Allemagne en 1945\, les MNR des musées de Strasbourg » a pu être fixée au mercredi 26 avril à 16h\, à la galerie Heitz. Elle sera accompagnée par Dominique Jacquot\, conservateur en chef du Musée des Beaux-Arts de Strasbourg et co-commissaire de l’exposition. \nLe nombre de participants est limité. Merci de vous inscrire auprès de nadya.cornu@gmail.com
URL:https://amamcs.net/evenement/passe-present-avenir-doeuvres-recuperees-en-allemagne-en-1945-les-mnr-des-musees-de-strasbourg/
LOCATION:Galerie Heitz – Palais Rohan\, 2 place du Château\, Strasbourg\, 67000\, France
CATEGORIES:Visites commentées
ATTACH;FMTTYPE=image/jpeg:https://amamcs.net/wp-content/uploads/2023/04/affi_MNR_A3_sept_160922_page-0001-1.jpg
END:VEVENT
END:VCALENDAR