BEGIN:VCALENDAR
VERSION:2.0
PRODID:-//Amamcs - Amis du Musée d&#039;Art Moderne et Contemporain de Strasbourg - ECPv6.15.17.1//NONSGML v1.0//EN
CALSCALE:GREGORIAN
METHOD:PUBLISH
X-WR-CALNAME:Amamcs - Amis du Musée d&#039;Art Moderne et Contemporain de Strasbourg
X-ORIGINAL-URL:https://amamcs.net
X-WR-CALDESC:Évènements pour Amamcs - Amis du Musée d&#039;Art Moderne et Contemporain de Strasbourg
REFRESH-INTERVAL;VALUE=DURATION:PT1H
X-Robots-Tag:noindex
X-PUBLISHED-TTL:PT1H
BEGIN:VTIMEZONE
TZID:Europe/Paris
BEGIN:DAYLIGHT
TZOFFSETFROM:+0100
TZOFFSETTO:+0200
TZNAME:CEST
DTSTART:20230326T010000
END:DAYLIGHT
BEGIN:STANDARD
TZOFFSETFROM:+0200
TZOFFSETTO:+0100
TZNAME:CET
DTSTART:20231029T010000
END:STANDARD
BEGIN:DAYLIGHT
TZOFFSETFROM:+0100
TZOFFSETTO:+0200
TZNAME:CEST
DTSTART:20240331T010000
END:DAYLIGHT
BEGIN:STANDARD
TZOFFSETFROM:+0200
TZOFFSETTO:+0100
TZNAME:CET
DTSTART:20241027T010000
END:STANDARD
BEGIN:DAYLIGHT
TZOFFSETFROM:+0100
TZOFFSETTO:+0200
TZNAME:CEST
DTSTART:20250330T010000
END:DAYLIGHT
BEGIN:STANDARD
TZOFFSETFROM:+0200
TZOFFSETTO:+0100
TZNAME:CET
DTSTART:20251026T010000
END:STANDARD
END:VTIMEZONE
BEGIN:VEVENT
DTSTART;TZID=Europe/Paris:20240409T150000
DTEND;TZID=Europe/Paris:20240409T150000
DTSTAMP:20260421T200627
CREATED:20240404T190435Z
LAST-MODIFIED:20240404T191109Z
UID:19841-1712674800-1712674800@amamcs.net
SUMMARY:En découdre ! " de Philippe Jacq
DESCRIPTION:Visite commentée de l’exposition  » En découdre !  » de Philippe Jacq à l’Espace d’art Apollonia\, 23 rue Boecklin à Strasbourg. \nAutodidacte et pluridisciplinaire\, Philippe Jacq (né en 1971) développe un art qui se concentre sur le concept de l’hybridation culturelle. Il s’intéresse ainsi à toute forme d’iconographie populaire et religieuse\, sans hiérarchie ni limite\, à tous les pays et toutes les croyances. Il est vivement intéressé par l’exploitation de différents textiles\, tissus et peintures.Avec ce projet de frise géante composée de tissus\, il flâne volontiers dans les brocantes et les souks pour dénicher des tapis\, broderies\, affiches et objets variés qu’il assemble ensuite. La réappropriation de ces éléments glanés au cours de ses voyages témoigne d’un univers personnel multiculturel foisonnant\, sans codes stricts ni contraintes\, où les représentations et les références cohabitent et oscillent entre l’Orient et l’Occident.
URL:https://amamcs.net/evenement/en-decoudre-de-philippe-jacq/
LOCATION:Espace Apollonia\, 23 Rue Boecklin\, Strasbourg\, 67000\, France
CATEGORIES:Visites commentées
ATTACH;FMTTYPE=image/png:https://amamcs.net/wp-content/uploads/2024/04/Banniere_Philippe_JACQ_site.png
END:VEVENT
BEGIN:VEVENT
DTSTART;TZID=Europe/Paris:20240411T110000
DTEND;TZID=Europe/Paris:20240411T110000
DTSTAMP:20260421T200627
CREATED:20240317T191059Z
LAST-MODIFIED:20240317T191555Z
UID:19830-1712833200-1712833200@amamcs.net
SUMMARY:Stéphane Lagoutte\, “Liban Stratigraphie
DESCRIPTION:Visite commentée de l’exposition de Stéphane Lagoutte\, “Liban Stratigraphie”. \nTravail au long cours réalisé à Beyrouth pendant plus de dix ans\, composé en cinq chapitres\, Beyrouth 75-15\, Observation\, Révoltes\, Voir et Survivance\, le photographe nous parle d’un temps non linéaire. Il étudie\, tel un géologue\, la succession des strates qui constituent l’histoire contemporaine du Liban depuis 1975.
URL:https://amamcs.net/evenement/stephane-lagoutte-liban-stratigraphie/
LOCATION:Stimultania\, 33 Rue Kageneck\, Strasbourg\, 67000\, France
CATEGORIES:Visites commentées
ATTACH;FMTTYPE=image/jpeg:https://amamcs.net/wp-content/uploads/2024/03/Stratigraphie_Lagoutte_Stimultania_001.jpg
END:VEVENT
BEGIN:VEVENT
DTSTART;TZID=Europe/Paris:20240416T110000
DTEND;TZID=Europe/Paris:20240416T110000
DTSTAMP:20260421T200627
CREATED:20240317T190900Z
LAST-MODIFIED:20240317T190900Z
UID:19828-1713265200-1713265200@amamcs.net
SUMMARY:Nouvel accrochage des œuvres contemporaines du MAMCS
DESCRIPTION:Visite commentée du nouvel accrochage des œuvres contemporaines du MAMCS aura lieu le mercredi 20 mars à 16h par Anna Millers\, conservatrice au musée. \nMerci de vous inscrire auprès de nadya.cornu@gmail.com
URL:https://amamcs.net/evenement/nouvel-accrochage-des-oeuvres-contemporaines-du-mamcs-2/
LOCATION:Mamcs\, 1 place Hans Jean Arp\, Strasbourg\, 67000
CATEGORIES:Visites commentées
ATTACH;FMTTYPE=image/jpeg:https://amamcs.net/wp-content/uploads/2020/12/artcafe.jpg
END:VEVENT
END:VCALENDAR