BEGIN:VCALENDAR
VERSION:2.0
PRODID:-//Amamcs - Amis du Musée d&#039;Art Moderne et Contemporain de Strasbourg - ECPv6.15.17.1//NONSGML v1.0//EN
CALSCALE:GREGORIAN
METHOD:PUBLISH
X-ORIGINAL-URL:https://amamcs.net
X-WR-CALDESC:Évènements pour Amamcs - Amis du Musée d&#039;Art Moderne et Contemporain de Strasbourg
REFRESH-INTERVAL;VALUE=DURATION:PT1H
X-Robots-Tag:noindex
X-PUBLISHED-TTL:PT1H
BEGIN:VTIMEZONE
TZID:Europe/Paris
BEGIN:DAYLIGHT
TZOFFSETFROM:+0100
TZOFFSETTO:+0200
TZNAME:CEST
DTSTART:20230326T010000
END:DAYLIGHT
BEGIN:STANDARD
TZOFFSETFROM:+0200
TZOFFSETTO:+0100
TZNAME:CET
DTSTART:20231029T010000
END:STANDARD
BEGIN:DAYLIGHT
TZOFFSETFROM:+0100
TZOFFSETTO:+0200
TZNAME:CEST
DTSTART:20240331T010000
END:DAYLIGHT
BEGIN:STANDARD
TZOFFSETFROM:+0200
TZOFFSETTO:+0100
TZNAME:CET
DTSTART:20241027T010000
END:STANDARD
BEGIN:DAYLIGHT
TZOFFSETFROM:+0100
TZOFFSETTO:+0200
TZNAME:CEST
DTSTART:20250330T010000
END:DAYLIGHT
BEGIN:STANDARD
TZOFFSETFROM:+0200
TZOFFSETTO:+0100
TZNAME:CET
DTSTART:20251026T010000
END:STANDARD
END:VTIMEZONE
BEGIN:VEVENT
DTSTART;TZID=Europe/Paris:20240604T143000
DTEND;TZID=Europe/Paris:20240604T163000
DTSTAMP:20260421T163335
CREATED:20240617T124850Z
LAST-MODIFIED:20240617T154113Z
UID:19858-1717511400-1717518600@amamcs.net
SUMMARY:La constellation Gustave Doré\, une traversée dans l'édition illustrée au XIXème siècle
DESCRIPTION:Mardi 21 mai et Mardi 4 juin de 14h30 à 16h\, à la Galerie Heitz au Palais des Rohan\, visites de l’exposition « La constellation Gustave Doré\, une traversée dans l’édition illustrée au XIXème siècle »\, accompagnées par Franck Knoery\, conservateur de la Bibliothèque des Musées de Strasbourg et commissaire de l’exposition. \nPour ces visites les groupes sont limités à 20 personnes. Merci de vous inscrire auprès de    nadya.cornu@gmail.com
URL:https://amamcs.net/evenement/la-constellation-gustave-dore-une-traversee-dans-ledition-illustree-au-xixeme-siecle-2/
LOCATION:Galerie Heitz – Palais Rohan\, 2 place du Château\, Strasbourg\, 67000\, France
CATEGORIES:Visites commentées
ATTACH;FMTTYPE=image/webp:https://amamcs.net/wp-content/uploads/2024/06/0-85246200-1705324968-279970-920-0-F.webp
END:VEVENT
BEGIN:VEVENT
DTSTART;TZID=Europe/Paris:20240606T143000
DTEND;TZID=Europe/Paris:20240606T173000
DTSTAMP:20260421T163335
CREATED:20240617T142433Z
LAST-MODIFIED:20240617T160833Z
UID:19870-1717684200-1717695000@amamcs.net
SUMMARY:Visite de l'atelier de Dominique Kippelen
DESCRIPTION:Nous vous proposons une nouvelle visite d’atelier d’artiste\, celui de Dominique Kippelen\, 5A\, rue de la Coopérative à Strasbourg\, dans le quartier COOP\, le jeudi 6 juin à 14h30.
URL:https://amamcs.net/evenement/visite-de-latelier-de-dominique-kippelen/
LOCATION:Atelier de Dominique Kippelen
CATEGORIES:Visites commentées
ATTACH;FMTTYPE=image/jpeg:https://amamcs.net/wp-content/uploads/2024/06/Kippelen-Dominique_1-1-1024x576-1.jpg
END:VEVENT
BEGIN:VEVENT
DTSTART;TZID=Europe/Paris:20240606T170000
DTEND;TZID=Europe/Paris:20240606T170000
DTSTAMP:20260421T163335
CREATED:20240617T133201Z
LAST-MODIFIED:20240617T161128Z
UID:19862-1717693200-1717693200@amamcs.net
SUMMARY:"Le maître des plis"\, Peter Weber
DESCRIPTION:Visite en avant première de la nouvelle exposition « Le maître des plis »\, première exposition en France de l’artiste allemand Peter Weber.
URL:https://amamcs.net/evenement/le-maitre-des-plis-peter-weber/
LOCATION:Galerie Radial\, 11 Quai Turckheim\, Strasbourg\, 67000\, France
CATEGORIES:Visites commentées
ATTACH;FMTTYPE=image/webp:https://amamcs.net/wp-content/uploads/2024/06/0-70285400-1715962042-344200-920-0-F.webp
END:VEVENT
BEGIN:VEVENT
DTSTART;TZID=Europe/Paris:20240613T150000
DTEND;TZID=Europe/Paris:20240613T150000
DTSTAMP:20260421T163335
CREATED:20240617T145226Z
LAST-MODIFIED:20240617T160313Z
UID:19874-1718290800-1718290800@amamcs.net
SUMMARY:La collection de sculptures contemporaines du Parc de Pourtalès.
DESCRIPTION:Nous vous proposons avec le CEAAC une balade guidée autour de la collection de sculptures contemporaines du Parc de Pourtalès. \nLe groupe est limité à 30 personnes. Merci de vous inscrire auprès de      nadya.cornu@gmail.com
URL:https://amamcs.net/evenement/la-collection-de-sculptures-contemporaines-du-parc-de-pourtales/
LOCATION:¨Parc de Pourtalès\, Strasbourg\, 67000\, France
CATEGORIES:Visites commentées
ATTACH;FMTTYPE=image/jpeg:https://amamcs.net/wp-content/uploads/2024/06/KS10237-1440x813-1.jpg
END:VEVENT
BEGIN:VEVENT
DTSTART;TZID=Europe/Paris:20240625T143000
DTEND;TZID=Europe/Paris:20240625T143000
DTSTAMP:20260421T163335
CREATED:20240617T145940Z
LAST-MODIFIED:20240617T153906Z
UID:19878-1719325800-1719325800@amamcs.net
SUMMARY:La constellation Gustave Doré\, une traversée dans l'édition illustrée au XIXème siècle
DESCRIPTION:Mardi 21 mai et Mardi 4 juin de 14h30 à 16h\, à la Galerie Heitz au Palais des Rohan\, visites de l’exposition « La constellation Gustave Doré\, une traversée dans l’édition illustrée au XIXème siècle »\, accompagnées par Franck Knoery\, conservateur de la Bibliothèque des Musées de Strasbourg et commissaire de l’exposition. \nPour ces visites les groupes sont limités à 20 personnes. Merci de vous inscrire auprès de    nadya.cornu@gmail.com
URL:https://amamcs.net/evenement/la-constellation-gustave-dore-une-traversee-dans-ledition-illustree-au-xixeme-siecle-3/
LOCATION:Galerie Heitz – Palais Rohan\, 2 place du Château\, Strasbourg\, 67000\, France
CATEGORIES:Visites commentées
ATTACH;FMTTYPE=image/webp:https://amamcs.net/wp-content/uploads/2024/06/0-85246200-1705324968-279970-920-0-F.webp
END:VEVENT
BEGIN:VEVENT
DTSTART;TZID=Europe/Paris:20240627T100000
DTEND;TZID=Europe/Paris:20240627T100000
DTSTAMP:20260421T163335
CREATED:20240617T150158Z
LAST-MODIFIED:20240617T151848Z
UID:19880-1719482400-1719482400@amamcs.net
SUMMARY:"Julie Doucet\, une rétrospection"
DESCRIPTION:Nous vous proposons aussi deux visites de l’exposition « Julie Doucet\, une rétrospection » au Musée Tomi Ungerer\, le jeudi 27 juin à 10h et le jeudi 4 juillet à 10h. Elles seront accompagnées par Anna Sailer\, commissaire de l’exposition et conservatrice du musée ou Martine Debaene\, chargée de médiation au service éducatif des musées. \nLes groupes sont limités à 25 personnes. Merci de vous inscrire auprès de       nadya.cornu@gmail.com
URL:https://amamcs.net/evenement/julie-doucet-une-retrospection/
LOCATION:Musée Tomi Ungerer\, 2 avenue de la Marseillaise - Villa Greiner\, Strasbourg\, 67000\, France
CATEGORIES:Visites commentées
ATTACH;FMTTYPE=image/jpeg:https://amamcs.net/wp-content/uploads/2024/06/affiche_40X60_Doucet_page-0001.jpg
END:VEVENT
END:VCALENDAR