BEGIN:VCALENDAR
VERSION:2.0
PRODID:-//Amamcs - Amis du Musée d&#039;Art Moderne et Contemporain de Strasbourg - ECPv6.15.17.1//NONSGML v1.0//EN
CALSCALE:GREGORIAN
METHOD:PUBLISH
X-ORIGINAL-URL:https://amamcs.net
X-WR-CALDESC:Évènements pour Amamcs - Amis du Musée d&#039;Art Moderne et Contemporain de Strasbourg
REFRESH-INTERVAL;VALUE=DURATION:PT1H
X-Robots-Tag:noindex
X-PUBLISHED-TTL:PT1H
BEGIN:VTIMEZONE
TZID:Europe/Paris
BEGIN:DAYLIGHT
TZOFFSETFROM:+0100
TZOFFSETTO:+0200
TZNAME:CEST
DTSTART:20230326T010000
END:DAYLIGHT
BEGIN:STANDARD
TZOFFSETFROM:+0200
TZOFFSETTO:+0100
TZNAME:CET
DTSTART:20231029T010000
END:STANDARD
BEGIN:DAYLIGHT
TZOFFSETFROM:+0100
TZOFFSETTO:+0200
TZNAME:CEST
DTSTART:20240331T010000
END:DAYLIGHT
BEGIN:STANDARD
TZOFFSETFROM:+0200
TZOFFSETTO:+0100
TZNAME:CET
DTSTART:20241027T010000
END:STANDARD
BEGIN:DAYLIGHT
TZOFFSETFROM:+0100
TZOFFSETTO:+0200
TZNAME:CEST
DTSTART:20250330T010000
END:DAYLIGHT
BEGIN:STANDARD
TZOFFSETFROM:+0200
TZOFFSETTO:+0100
TZNAME:CET
DTSTART:20251026T010000
END:STANDARD
END:VTIMEZONE
BEGIN:VEVENT
DTSTART;TZID=Europe/Paris:20240905T150000
DTEND;TZID=Europe/Paris:20240905T150000
DTSTAMP:20260421T115109
CREATED:20240729T230527Z
LAST-MODIFIED:20240729T234944Z
UID:19911-1725548400-1725548400@amamcs.net
SUMMARY:"L'hésitation" de Luca Bertolo
DESCRIPTION:Nous préparons la rentrée et nous vous proposons pour le jeudi 5 septembre à 15h au CEAAC\, une visite commentée de l’exposition « L’hésitation » de Luca Bertolo. \nL’hésitation offre un aperçu de l’éclectisme pictural proposé par Luca Bertolo. Explorant les possibilités et les limites de la peinture\, l’artiste italien produit des œuvres aux styles variés\, souvent en séries. Ses peintures ne se ressemblent pas mais ont toutes en commun cette tension\, cette « hésitation ».
URL:https://amamcs.net/evenement/lhesitation-de-luca-bertolo/
LOCATION:CEAAC – Centre européen d’actions artistiques contemporaines\, 7 rue Abreuvoir\, Strasbourg\, 67000\, France
CATEGORIES:Visites commentées
ATTACH;FMTTYPE=image/jpeg:https://amamcs.net/wp-content/uploads/2024/07/1718296398133.jpeg
END:VEVENT
BEGIN:VEVENT
DTSTART;TZID=Europe/Paris:20240928T150000
DTEND;TZID=Europe/Paris:20240928T150000
DTSTAMP:20260421T115109
CREATED:20240729T231002Z
LAST-MODIFIED:20241024T231810Z
UID:19915-1727535600-1727535600@amamcs.net
SUMMARY:Strasbourg Galeries Tour
DESCRIPTION:du 27 au 29 septembre\, de nombreuses galeries de Strasbourg ouvrent leurs portes pour un nouveau Strasbourg Galeries Tour. \nNous vous proposons de nous retrouver samedi 28 septembre à 15 h pour 2 groupes de visites: \n  \nGroupe 1: devant la galerie EAST\, 12 rue du Faubourg de Pierre. Ce groupe visitera ensuite les galeries Iffrig\, Sandra Blum\, Ritsch-Fisch et La Pierre Large. \nGroupe 2: devant la galerie Bamberger\, 16 rue du 22 Novembre. Ce groupe visitera ensuite les galeries Radial Art Contemporain\, Pascale Froessel\, Yannick Kraemer et l’Estampe. \n  \nLe nombre de participants est limité. Merci de vous inscrire auprès de     nadya.cornu@gmail.com \n  \nVous pouvez télécharger le plan et les adresses de toutes les galeries participantes en cliquant sur le lien suivant et organiser si vous le souhaitez votre propre tour: \nhttps://www.google.fr/url?sa=t&source=web&rct=j&opi=89978449&url=https://strasbourg-galeries.com/&ved=2ahUKEwijuJz7ptmIAxUkVaQEHcYBKJ4QFnoECAEQAQ&usg=AOvVaw3kPkQg8TVF4YXD5Drjacqc
URL:https://amamcs.net/evenement/strasbourg-galeries-tour/
LOCATION:Strasbourg\, Strasbourg\, France
CATEGORIES:Visites commentées
ATTACH;FMTTYPE=image/jpeg:https://amamcs.net/wp-content/uploads/2024/07/452505308_510832348305216_8146535337514165140_n.jpg
END:VEVENT
END:VCALENDAR