BEGIN:VCALENDAR
VERSION:2.0
PRODID:-//Amamcs - Amis du Musée d&#039;Art Moderne et Contemporain de Strasbourg - ECPv6.15.17.1//NONSGML v1.0//EN
CALSCALE:GREGORIAN
METHOD:PUBLISH
X-WR-CALNAME:Amamcs - Amis du Musée d&#039;Art Moderne et Contemporain de Strasbourg
X-ORIGINAL-URL:https://amamcs.net
X-WR-CALDESC:Évènements pour Amamcs - Amis du Musée d&#039;Art Moderne et Contemporain de Strasbourg
REFRESH-INTERVAL;VALUE=DURATION:PT1H
X-Robots-Tag:noindex
X-PUBLISHED-TTL:PT1H
BEGIN:VTIMEZONE
TZID:Europe/Paris
BEGIN:DAYLIGHT
TZOFFSETFROM:+0100
TZOFFSETTO:+0200
TZNAME:CEST
DTSTART:20230326T010000
END:DAYLIGHT
BEGIN:STANDARD
TZOFFSETFROM:+0200
TZOFFSETTO:+0100
TZNAME:CET
DTSTART:20231029T010000
END:STANDARD
BEGIN:DAYLIGHT
TZOFFSETFROM:+0100
TZOFFSETTO:+0200
TZNAME:CEST
DTSTART:20240331T010000
END:DAYLIGHT
BEGIN:STANDARD
TZOFFSETFROM:+0200
TZOFFSETTO:+0100
TZNAME:CET
DTSTART:20241027T010000
END:STANDARD
BEGIN:DAYLIGHT
TZOFFSETFROM:+0100
TZOFFSETTO:+0200
TZNAME:CEST
DTSTART:20250330T010000
END:DAYLIGHT
BEGIN:STANDARD
TZOFFSETFROM:+0200
TZOFFSETTO:+0100
TZNAME:CET
DTSTART:20251026T010000
END:STANDARD
END:VTIMEZONE
BEGIN:VEVENT
DTSTART;TZID=Europe/Paris:20241204T143000
DTEND;TZID=Europe/Paris:20241204T143000
DTSTAMP:20260421T065204
CREATED:20241025T094652Z
LAST-MODIFIED:20241025T094652Z
UID:19955-1733322600-1733322600@amamcs.net
SUMMARY:Mode d'emploi\, suivre les instructions de l'artiste
DESCRIPTION:« Mode d’emploi\, suivre les instructions de l’artiste »\, commentées par Coralie Pissis\, attachée de conservation du patrimoine\, le mercredi 13 novembre à 14h30 et le mercredi 4 décembre à 14h30 au MAMCS. \nLe nombre de participants est limité pour ces visites\, merci de vous inscrire auprès de      nadya.cornu@gmail.com
URL:https://amamcs.net/evenement/mode-demploi-suivre-les-instructions-de-lartiste-2/
LOCATION:Mamcs\, 1 place Hans Jean Arp\, Strasbourg\, 67000
CATEGORIES:Visites commentées
ATTACH;FMTTYPE=image/webp:https://amamcs.net/wp-content/uploads/2024/10/modemploi-jpg-1200x833-1.webp
END:VEVENT
BEGIN:VEVENT
DTSTART;TZID=Europe/Paris:20241213T150000
DTEND;TZID=Europe/Paris:20241213T150000
DTSTAMP:20260421T065204
CREATED:20250119T233226Z
LAST-MODIFIED:20250128T220656Z
UID:20012-1734102000-1734102000@amamcs.net
SUMMARY:Enfantillages
DESCRIPTION:Nous vous proposons aussi\, le vendredi 13 décembre à 15h une visite de l’exposition « Enfantillages » à la Galerie Heitz au Palais des Rohan. \nElle sera commentée par Florian Siffer\, responsable du cabinet des estampes et des dessins\, et co-commissaire de l’exposition. \nCette exposition présente pour la première fois la place singulière de l’Alsace et particulièrement Strasbourg dans l’élaboration d’ouvrages illustrés destinés à la jeunesse à partir du XIXe siècle. Dès cette époque\, des illustrateurs et illustratrices\, éditeurs et imprimeurs originaires de la région ou entretenant un lien fort avec elle\, ont participé à une grande aventure éditoriale pour faire vivre un nouveau marché destiné à édifier le jeune lectorat tout en le distrayant. La région\, entre France et Allemagne\, a pu s’appuyer sur le dynamisme et le talent visionnaire d’artistes comme Gustave Doré\, Théophile Schuler ou l’éditeur Pierre-Jules Hetzel qui ont uni leurs efforts pour mettre en image des histoires pour de jeunes lecteurs.\nLe nombre de participants étant limité\, merci de vous inscrire auprès de nadya.cornu@gmail.com
URL:https://amamcs.net/evenement/enfantillages/
LOCATION:Galerie Heitz – Palais Rohan\, 2 place du Château\, Strasbourg\, 67000\, France
CATEGORIES:Visites commentées
ATTACH;FMTTYPE=image/jpeg:https://amamcs.net/wp-content/uploads/2025/01/affi_CED_enfantillages_zoe_A4_PRINT_avec3mm-scaled.jpg
END:VEVENT
BEGIN:VEVENT
DTSTART;TZID=Europe/Paris:20241214T080000
DTEND;TZID=Europe/Paris:20241215T170000
DTSTAMP:20260421T065204
CREATED:20250119T233946Z
LAST-MODIFIED:20250129T094337Z
UID:20016-1734163200-1734282000@amamcs.net
SUMMARY:Atelier de Sylviane Laure MAES
DESCRIPTION:Sylviane Laure MAES\, plasticienne\, ouvrira les portes de son atelier à Haguenau les 14 et 15 décembre:\nMa peinture relève du figuratif abstrait dans ce sens qu’elle n’est pas informelle mais que la composition est abstraite. Les objets ou les thèmes choisis ne sont à considérer non pour ce qu’ils désignent mais pour ce qui\, en eux\, se prête au dessin. Les choses deviennent images et les images s’évaporent en signes. On ne jauge pas les thématiques\, souvent très variées\, à l’aune d’une intention iconographique mais selon les ingrédients visuels dont elles sont l’occasion. C’est une peinture aux couleurs vives et contrastées. Une dominante qui donne le ton (chaud ou froid)\, une gamme qui donne l’ambiance\, deux ou trois directions qui donnent le rythme. \nAinsi pourrait-on définir tout au moins ma démarche picturale\, à défaut de décrire et situer mon style. SL M.
URL:https://amamcs.net/evenement/atelier-de-sylviane-laure-maes/
LOCATION:Haguenau\, Haguenau\, France
CATEGORIES:Visites commentées
ATTACH;FMTTYPE=image/jpeg:https://amamcs.net/wp-content/uploads/2025/01/Maes.jpg
END:VEVENT
END:VCALENDAR