BEGIN:VCALENDAR
VERSION:2.0
PRODID:-//Amamcs - Amis du Musée d&#039;Art Moderne et Contemporain de Strasbourg - ECPv6.15.17.1//NONSGML v1.0//EN
CALSCALE:GREGORIAN
METHOD:PUBLISH
X-ORIGINAL-URL:https://amamcs.net
X-WR-CALDESC:Évènements pour Amamcs - Amis du Musée d&#039;Art Moderne et Contemporain de Strasbourg
REFRESH-INTERVAL;VALUE=DURATION:PT1H
X-Robots-Tag:noindex
X-PUBLISHED-TTL:PT1H
BEGIN:VTIMEZONE
TZID:Europe/Paris
BEGIN:DAYLIGHT
TZOFFSETFROM:+0100
TZOFFSETTO:+0200
TZNAME:CEST
DTSTART:20240331T010000
END:DAYLIGHT
BEGIN:STANDARD
TZOFFSETFROM:+0200
TZOFFSETTO:+0100
TZNAME:CET
DTSTART:20241027T010000
END:STANDARD
BEGIN:DAYLIGHT
TZOFFSETFROM:+0100
TZOFFSETTO:+0200
TZNAME:CEST
DTSTART:20250330T010000
END:DAYLIGHT
BEGIN:STANDARD
TZOFFSETFROM:+0200
TZOFFSETTO:+0100
TZNAME:CET
DTSTART:20251026T010000
END:STANDARD
BEGIN:DAYLIGHT
TZOFFSETFROM:+0100
TZOFFSETTO:+0200
TZNAME:CEST
DTSTART:20260329T010000
END:DAYLIGHT
BEGIN:STANDARD
TZOFFSETFROM:+0200
TZOFFSETTO:+0100
TZNAME:CET
DTSTART:20261025T010000
END:STANDARD
END:VTIMEZONE
BEGIN:VEVENT
DTSTART;TZID=Europe/Paris:20250107T160000
DTEND;TZID=Europe/Paris:20250107T160000
DTSTAMP:20260421T050044
CREATED:20241229T163840Z
LAST-MODIFIED:20241229T171851Z
UID:19961-1736265600-1736265600@amamcs.net
SUMMARY:melita\, מלט −mlṭ\, refuge - Anne Immelé
DESCRIPTION:Dans l’exposition Melita\, טלמ−mlṭ\, Refuge\, Anne Immelé envisage le destin de la Méditerranée en croisant les routes de conquête commerciale des Phéniciens avec celles des migrants d’aujourd’hui. \nUne exploration qui croise et alterne les traces du passé et les vicissitudes du présent\, ouvrant des espaces de réflexion sur les notions de refuge et d’hospitalité. \nEnracinées dans la complexité géopolitique de la condition migratoire contemporaine\, les photographies s’éloignent du reportage pour proposer une trajectoire poétique\, faisant se connecter les géographies de trois pays : les grottes et vestiges des refuges phéniciens à Malte\, les carrières de Favignana en Sicile\, les plages de Tunisie où sont parfois enterrés les rêves des réfugiés.
URL:https://amamcs.net/evenement/melita-%d7%9e%d7%9c%d7%98-%e2%88%92ml%e1%b9%ad-refuge-anne-immele/
LOCATION:Stimultania\, 33 Rue Kageneck\, Strasbourg\, 67000\, France
CATEGORIES:Visites commentées
ATTACH;FMTTYPE=image/png:https://amamcs.net/wp-content/uploads/2024/12/anne_immele.png
END:VEVENT
BEGIN:VEVENT
DTSTART;TZID=Europe/Paris:20250122T150000
DTEND;TZID=Europe/Paris:20250122T150000
DTSTAMP:20260421T050044
CREATED:20250120T001843Z
LAST-MODIFIED:20250128T220822Z
UID:20031-1737558000-1737558000@amamcs.net
SUMMARY:Enfantillages
DESCRIPTION:Nous vous proposons aussi\, le mercredi 22 janvier à 15h une visite de l’exposition « Enfantillages » à la Galerie Heitz au Palais des Rohan. \nElle sera commentée par Florian Siffer\, responsable du cabinet des estampes et des dessins\, et co-commissaire de l’exposition. \nCette exposition présente pour la première fois la place singulière de l’Alsace et particulièrement Strasbourg dans l’élaboration d’ouvrages illustrés destinés à la jeunesse à partir du XIXe siècle. Dès cette époque\, des illustrateurs et illustratrices\, éditeurs et imprimeurs originaires de la région ou entretenant un lien fort avec elle\, ont participé à une grande aventure éditoriale pour faire vivre un nouveau marché destiné à édifier le jeune lectorat tout en le distrayant. La région\, entre France et Allemagne\, a pu s’appuyer sur le dynamisme et le talent visionnaire d’artistes comme Gustave Doré\, Théophile Schuler ou l’éditeur Pierre-Jules Hetzel qui ont uni leurs efforts pour mettre en image des histoires pour de jeunes lecteurs.\nLe nombre de participants étant limité\, merci de vous inscrire auprès de nadya.cornu@gmail.com
URL:https://amamcs.net/evenement/enfantillages-3/
LOCATION:Galerie Heitz – Palais Rohan\, 2 place du Château\, Strasbourg\, 67000\, France
CATEGORIES:Visites commentées
ATTACH;FMTTYPE=image/jpeg:https://amamcs.net/wp-content/uploads/2025/01/affi_CED_enfantillages_zoe_A4_PRINT_avec3mm-scaled.jpg
END:VEVENT
BEGIN:VEVENT
DTSTART;TZID=Europe/Paris:20250123T150000
DTEND;TZID=Europe/Paris:20250123T150000
DTSTAMP:20260421T050044
CREATED:20241229T170110Z
LAST-MODIFIED:20241229T172112Z
UID:19967-1737644400-1737644400@amamcs.net
SUMMARY:Toute une vie\, Frantisek Zvardon
DESCRIPTION:Les photographies de Frantisek Zvardon visent à transfigurer le réel et sa violence en un monde fantastique\, floutant le rapport entre la réalité et la fiction. À travers une centaine de photographies\, l’exposition à l’Espace Apollonia présente le travail emblématique de toute une vie. Des images exclusivement en noir et blanc ont été choisies afin de focaliser l’attention sur l’homme et sur la nature\, les deux thématiques qui ont depuis toujours passionné Frantisek Zvardon.
URL:https://amamcs.net/evenement/toute-une-vie-frantisek-zvardon/
LOCATION:Espace Apollonia\, 23 Rue Boecklin\, Strasbourg\, 67000\, France
CATEGORIES:Visites commentées
ATTACH;FMTTYPE=image/webp:https://amamcs.net/wp-content/uploads/2024/12/img-4796.webp
END:VEVENT
BEGIN:VEVENT
DTSTART;TZID=Europe/Paris:20250130T150000
DTEND;TZID=Europe/Paris:20250130T150000
DTSTAMP:20260421T050044
CREATED:20250119T201038Z
LAST-MODIFIED:20250128T220445Z
UID:19984-1738249200-1738249200@amamcs.net
SUMMARY:Enfantillages 2
DESCRIPTION:Le second chapitre de l’exposition Enfantillages. « Pas de livres pour enfants » est présenté au Musée Tomi Ungerer. \nNous vous en proposons 2 visites\, jeudi 30 janvier à 15h et jeudi 13 février à 15h\, commentées par Anna Sailer\, conservatrice du Musée Tomi Ungerer – Centre international de l’illustration. \n« Il n’y a pas de littérature pour enfants\, il y a de la littérature » (François Ruy-Vidal) est un principe fondateur et provocateur qui a guidé la conception de livres jeunesse à partir des années 1960/1970. L’exposition prend ce principe comme fil rouge pour examiner comment les limites entre les différents domaines littéraires sont abolies à partir du moment où les enfants sont pris au sérieux\, où on les confronte à des thèmes difficiles et complexes et\, surtout\, où ils peuvent construire eux-mêmes le sens de l’œuvre. \nLe nombre de participants étant limité\, merci de vous inscrire auprès de    nadya.cornu@gmail.com
URL:https://amamcs.net/evenement/enfantillages-2/
LOCATION:Musée Tomi Ungerer\, 2 avenue de la Marseillaise - Villa Greiner\, Strasbourg\, 67000\, France
CATEGORIES:Visites commentées
ATTACH;FMTTYPE=image/webp:https://amamcs.net/wp-content/uploads/2025/01/0-38799300-1731488106-474090-920-0-F.webp
END:VEVENT
END:VCALENDAR