BEGIN:VCALENDAR
VERSION:2.0
PRODID:-//Amamcs - Amis du Musée d&#039;Art Moderne et Contemporain de Strasbourg - ECPv6.15.17.1//NONSGML v1.0//EN
CALSCALE:GREGORIAN
METHOD:PUBLISH
X-ORIGINAL-URL:https://amamcs.net
X-WR-CALDESC:Évènements pour Amamcs - Amis du Musée d&#039;Art Moderne et Contemporain de Strasbourg
REFRESH-INTERVAL;VALUE=DURATION:PT1H
X-Robots-Tag:noindex
X-PUBLISHED-TTL:PT1H
BEGIN:VTIMEZONE
TZID:Europe/Paris
BEGIN:DAYLIGHT
TZOFFSETFROM:+0100
TZOFFSETTO:+0200
TZNAME:CEST
DTSTART:20240331T010000
END:DAYLIGHT
BEGIN:STANDARD
TZOFFSETFROM:+0200
TZOFFSETTO:+0100
TZNAME:CET
DTSTART:20241027T010000
END:STANDARD
BEGIN:DAYLIGHT
TZOFFSETFROM:+0100
TZOFFSETTO:+0200
TZNAME:CEST
DTSTART:20250330T010000
END:DAYLIGHT
BEGIN:STANDARD
TZOFFSETFROM:+0200
TZOFFSETTO:+0100
TZNAME:CET
DTSTART:20251026T010000
END:STANDARD
BEGIN:DAYLIGHT
TZOFFSETFROM:+0100
TZOFFSETTO:+0200
TZNAME:CEST
DTSTART:20260329T010000
END:DAYLIGHT
BEGIN:STANDARD
TZOFFSETFROM:+0200
TZOFFSETTO:+0100
TZNAME:CET
DTSTART:20261025T010000
END:STANDARD
END:VTIMEZONE
BEGIN:VEVENT
DTSTART;TZID=Europe/Paris:20250205T170000
DTEND;TZID=Europe/Paris:20250205T170000
DTSTAMP:20260421T032120
CREATED:20250129T085518Z
LAST-MODIFIED:20250129T091715Z
UID:20048-1738774800-1738774800@amamcs.net
SUMMARY:Prévernissage\, en présence des artistes
DESCRIPTION:La galerie Radial nous invite à un prévernissage de sa nouvelle exposition RH Ressources humaines\, en présence des artistes Michel Cornu et Robert Schad le mercredi 5 février à 17h. \nLoin de toute IA\, Cyber technologies ou aide informatique\, Michel Cornu et Robert Schad investissent et utilisent leur mental et leur corps\, parfois dans des processus lourds\, des techniques qui peuvent être brutales\, pour nous livrer une œuvre où la rudesse s’efface et nous révèle une sensibilité\, visible\, ressentie. Ils nous conduisent à percevoir la dualité entre la force des gestes et leur vision d’artiste. \nRobert Schad nous présentera une série de sculptures totalement inédites dont nous n’avons pour l’heure aucune photo.\nC’est une situation exceptionnelle et un investissement de la part de Robert Schad de nous réserver pareille surprise. \nMichel Cornu s’est mis au travail depuis des mois pour nous livrer une nouvelle série d’œuvres tout spécialement réservées à la galerie pour inaugurer l’année 2025 avec des dessins et des gravures uniques.
URL:https://amamcs.net/evenement/prevernissage-rh-ressources-humaines-en-presence-des-artistes-michel-cornu-et-robert-schad/
LOCATION:Galerie Radial\, 11 Quai Turckheim\, Strasbourg\, 67000\, France
CATEGORIES:Visites commentées
ATTACH;FMTTYPE=image/webp:https://amamcs.net/wp-content/uploads/2025/01/Bandeau-Anglais-1-1024x362-1.webp
END:VEVENT
BEGIN:VEVENT
DTSTART;TZID=Europe/Paris:20250213T150000
DTEND;TZID=Europe/Paris:20250213T150000
DTSTAMP:20260421T032120
CREATED:20250119T202722Z
LAST-MODIFIED:20250128T220337Z
UID:19986-1739458800-1739458800@amamcs.net
SUMMARY:Enfantillages 2
DESCRIPTION:Le second chapitre de l’exposition Enfantillages. « Pas de livres pour enfants » est présenté au Musée Tomi Ungerer. \nNous vous en proposons 2 visites\, jeudi 30 janvier à 15h et jeudi 13 février à 15h\, commentées par Anna Sailer\, conservatrice du Musée Tomi Ungerer – Centre international de l’illustration. \n« Il n’y a pas de littérature pour enfants\, il y a de la littérature » (François Ruy-Vidal) est un principe fondateur et provocateur qui a guidé la conception de livres jeunesse à partir des années 1960/1970. L’exposition prend ce principe comme fil rouge pour examiner comment les limites entre les différents domaines littéraires sont abolies à partir du moment où les enfants sont pris au sérieux\, où on les confronte à des thèmes difficiles et complexes et\, surtout\, où ils peuvent construire eux-mêmes le sens de l’œuvre. \nLe nombre de participants étant limité\, merci de vous inscrire auprès de    nadya.cornu@gmail.com
URL:https://amamcs.net/evenement/enfantillages-2-2/
LOCATION:Musée Tomi Ungerer\, 2 avenue de la Marseillaise - Villa Greiner\, Strasbourg\, 67000\, France
CATEGORIES:Visites commentées
ATTACH;FMTTYPE=image/webp:https://amamcs.net/wp-content/uploads/2025/01/0-38799300-1731488106-474090-920-0-F.webp
END:VEVENT
END:VCALENDAR