BEGIN:VCALENDAR
VERSION:2.0
PRODID:-//Amamcs - Amis du Musée d&#039;Art Moderne et Contemporain de Strasbourg - ECPv6.15.17.1//NONSGML v1.0//EN
CALSCALE:GREGORIAN
METHOD:PUBLISH
X-ORIGINAL-URL:https://amamcs.net
X-WR-CALDESC:Évènements pour Amamcs - Amis du Musée d&#039;Art Moderne et Contemporain de Strasbourg
REFRESH-INTERVAL;VALUE=DURATION:PT1H
X-Robots-Tag:noindex
X-PUBLISHED-TTL:PT1H
BEGIN:VTIMEZONE
TZID:Europe/Paris
BEGIN:DAYLIGHT
TZOFFSETFROM:+0100
TZOFFSETTO:+0200
TZNAME:CEST
DTSTART:20240331T010000
END:DAYLIGHT
BEGIN:STANDARD
TZOFFSETFROM:+0200
TZOFFSETTO:+0100
TZNAME:CET
DTSTART:20241027T010000
END:STANDARD
BEGIN:DAYLIGHT
TZOFFSETFROM:+0100
TZOFFSETTO:+0200
TZNAME:CEST
DTSTART:20250330T010000
END:DAYLIGHT
BEGIN:STANDARD
TZOFFSETFROM:+0200
TZOFFSETTO:+0100
TZNAME:CET
DTSTART:20251026T010000
END:STANDARD
BEGIN:DAYLIGHT
TZOFFSETFROM:+0100
TZOFFSETTO:+0200
TZNAME:CEST
DTSTART:20260329T010000
END:DAYLIGHT
BEGIN:STANDARD
TZOFFSETFROM:+0200
TZOFFSETTO:+0100
TZNAME:CET
DTSTART:20261025T010000
END:STANDARD
END:VTIMEZONE
BEGIN:VEVENT
DTSTART;TZID=Europe/Paris:20250314T160000
DTEND;TZID=Europe/Paris:20250314T160000
DTSTAMP:20260421T013620
CREATED:20250306T223402Z
LAST-MODIFIED:20250306T230437Z
UID:20071-1741968000-1741968000@amamcs.net
SUMMARY:"Wild Rose"\, de Gabrielle Duplantier
DESCRIPTION:Gabrielle Duplantier grandit dans une famille d’artistes et\, depuis sa petite enfance\, ses questionnements trouvent corps dans la création artistique ; elle arrive à la photographie en autodidacte\, librement. Inspirée par la nature\, le territoire et les gens qui l’entourent\, elle développe depuis plusieurs années un travail où l’intime et la féminité sont au cœur de sa recherche. \nDans la série intitulée Wild Rose elle photographie la nature comme repli et celles et ceux qui croisent son chemin ; elle pose sur ces visages et sur ces paysages un regard tendre quasi amoureux qui montre à chaque image une grande émotion.
URL:https://amamcs.net/evenement/wild-rose-de-gabrielle-duplantier/
LOCATION:La Chambre\, 4 place d’Austerlitz\, Strasbourg\, 67000
CATEGORIES:Visites commentées
ATTACH;FMTTYPE=image/jpeg:https://amamcs.net/wp-content/uploads/2025/03/ZOE-CAT139-2-1-scaled-1.jpeg
END:VEVENT
BEGIN:VEVENT
DTSTART;TZID=Europe/Paris:20250316T100000
DTEND;TZID=Europe/Paris:20250316T100000
DTSTAMP:20260421T013620
CREATED:20250306T224549Z
LAST-MODIFIED:20250306T230858Z
UID:20076-1742119200-1742119200@amamcs.net
SUMMARY:"Une affaire de plis en zig et d'à plats en zag\, les Leporellos de Gabriel Micheletti"
DESCRIPTION:Nous vous proposons une visite de l’exposition « Une affaire de plis en zig et d’à plats en zag\, les Leporellos de Gabriel Micheletti » le dimanche 16 mars à 10h\, au Musée Würth à Erstein. Cette visite sera accompagnée par Jean-Louis Mandel et Gabriel Micheletti. Rendez-vous sur place. \nLe mot « leporello » fait allusion à Leporello\, valet de Don Juan\, qui conserve la longue liste des maîtresses de son maître\, pliée en accordéon\, dans le premier acte de l’opéra de Mozart. Il s’agit par extension d’un carnet plié en accordéon. Gabriel Micheletti ne fait pas des dessins\, mais du dessin. Il ne fait pas des peintures\, mais de la peinture. Tout son travail construit une interrogation fondamentale autour de la question de la peinture et du dessin : comment et pourquoi peindre\, comment et pourquoi dessiner ? Connu pour ses grands formats\, l’artiste strasbourgeois\, a exploré\, depuis le confinement dû la pandémie du Covid\, une nouvelle dimension en travaillant exclusivement des leporellos. \nL’exposition parallèle\, Les leporellos de Gabriel Micheletti\, fait ainsi écho à l’exposition principale La Bibliothèque fantastique. \nGabriel Micheletti est docteur en médecine\, spécialiste en neurologie\, maître de conférences à la Faculté de Médecine de Strasbourg\, peintre et comédien. Peintre\, médecin\, enseignant et comédien\, pour accomplir ses quatre rêves d’enfance\, organisés (alors\, à son propre insu) autour du regard. \nMerci de vous inscrire auprès de nadya.cornu@gmail.com\nA l’issue de cette visite\, Jean-Louis Mandel fera une visite commentée de l’exposition « La Bibliothèque fantastique » pour ceux qui le souhaitent.
URL:https://amamcs.net/evenement/une-affaire-de-plis-en-zig-et-da-plats-en-zag-les-leporellos-de-gabriel-micheletti/
LOCATION:Musée Würth\, ZI OUEST\, Rue Georges Besse\, Erstein\, 67150\, France
CATEGORIES:Visites commentées
ATTACH;FMTTYPE=image/webp:https://amamcs.net/wp-content/uploads/2025/03/0-41517300-1740493568-541467-920-0-F.webp
END:VEVENT
BEGIN:VEVENT
DTSTART;TZID=Europe/Paris:20250325T160000
DTEND;TZID=Europe/Paris:20250325T160000
DTSTAMP:20260421T013620
CREATED:20250306T224108Z
LAST-MODIFIED:20250306T231255Z
UID:20073-1742918400-1742918400@amamcs.net
SUMMARY:"Montre tes yeux" de Mathieu Farcy
DESCRIPTION:Montre tes yeux présente quatre projets qui ont pris forme dans les cinq dernières années. « Saints Loups a été créé lors d’une invitation dans le quartier Saint Leu de la ville d’Amiens et d’amour et de rage a été créé à Givors dans le cadre d’une invitation faite par Stimultania. \n Ces deux projets ont pour visée de produire une œuvre collective à partir des légendes et des mythologies de celles et ceux qui ont travaillé avec moi. Ils participent du même besoin\, faire corps. Ils s’inscrivent dans l’écoute de celles et ceux qui vivent dans des territoires délaissés.Les deux projets suivants\, Asiles et Les alliances animales\, montrés ici au stade d’esquisses\, sont les ricochets des travaux précédents.  \nIls prolongent la nécessité de faire ensemble en tentant de déjouer le langage\, à partir du geste. Asiles est un projet d’art en commun pensé avec des personnes exilées. Il s’agit ici de créer ensemble des refuges\, réels ou imaginés\, des espaces mentaux\, symboliques\, actifs. Les alliances animales sont un ensemble d’expériences de créations nomades\, avec les animaux dans leurs territoires\, ainsi qu’avec celles et ceux qui vivent des devenirs-animaux. Nous développons une attention mutuelle\, créant les conditions d’une présence épaisse. Mathieu Farcy
URL:https://amamcs.net/evenement/montre-tes-yeux-de-mathieu-farcy/
LOCATION:Stimultania\, 33 Rue Kageneck\, Strasbourg\, 67000\, France
CATEGORIES:Visites commentées
ATTACH;FMTTYPE=image/webp:https://amamcs.net/wp-content/uploads/2025/03/0-40875400-1738177914-519847-920-0-F.webp
END:VEVENT
END:VCALENDAR