BEGIN:VCALENDAR
VERSION:2.0
PRODID:-//Amamcs - Amis du Musée d&#039;Art Moderne et Contemporain de Strasbourg - ECPv6.15.17.1//NONSGML v1.0//EN
CALSCALE:GREGORIAN
METHOD:PUBLISH
X-WR-CALNAME:Amamcs - Amis du Musée d&#039;Art Moderne et Contemporain de Strasbourg
X-ORIGINAL-URL:https://amamcs.net
X-WR-CALDESC:Évènements pour Amamcs - Amis du Musée d&#039;Art Moderne et Contemporain de Strasbourg
REFRESH-INTERVAL;VALUE=DURATION:PT1H
X-Robots-Tag:noindex
X-PUBLISHED-TTL:PT1H
BEGIN:VTIMEZONE
TZID:Europe/Paris
BEGIN:DAYLIGHT
TZOFFSETFROM:+0100
TZOFFSETTO:+0200
TZNAME:CEST
DTSTART:20240331T010000
END:DAYLIGHT
BEGIN:STANDARD
TZOFFSETFROM:+0200
TZOFFSETTO:+0100
TZNAME:CET
DTSTART:20241027T010000
END:STANDARD
BEGIN:DAYLIGHT
TZOFFSETFROM:+0100
TZOFFSETTO:+0200
TZNAME:CEST
DTSTART:20250330T010000
END:DAYLIGHT
BEGIN:STANDARD
TZOFFSETFROM:+0200
TZOFFSETTO:+0100
TZNAME:CET
DTSTART:20251026T010000
END:STANDARD
BEGIN:DAYLIGHT
TZOFFSETFROM:+0100
TZOFFSETTO:+0200
TZNAME:CEST
DTSTART:20260329T010000
END:DAYLIGHT
BEGIN:STANDARD
TZOFFSETFROM:+0200
TZOFFSETTO:+0100
TZNAME:CET
DTSTART:20261025T010000
END:STANDARD
END:VTIMEZONE
BEGIN:VEVENT
DTSTART;TZID=Europe/Paris:20250603T160000
DTEND;TZID=Europe/Paris:20250603T160000
DTSTAMP:20260420T204735
CREATED:20250522T234500Z
LAST-MODIFIED:20250522T235020Z
UID:20118-1748966400-1748966400@amamcs.net
SUMMARY:"Fleurs de feux" d"Anaïs Tondeur.
DESCRIPTION:Exposition  » Fleurs de feux  » d »Anaïs Tondeur.\nCette correspondance a pris forme avec neuf communautés de plantes qui évoluent dans les sols marqués par l’incinération et l’enfouissement de déchets illégaux\, sur la Terre des Feux\, dans la région de Naples. Dans un processus philosophique et photographique\, l’artiste Anaïs Tondeur et le philosophe Michael Marder cherchent à nourrir de nouvelles formes de soins et d’attention inter-espèces. \n(Il n’y a pas d’inscription pour cette visite.)
URL:https://amamcs.net/evenement/fleurs-de-feux-danais-tondeur/
LOCATION:Stimultania\, 33 Rue Kageneck\, Strasbourg\, 67000\, France
CATEGORIES:Visites commentées
ATTACH;FMTTYPE=image/jpeg:https://amamcs.net/wp-content/uploads/2025/05/STIMULTANIA_1_Chelidonium-majus_Anais-TONDEUR-819x1024-1.jpg
END:VEVENT
BEGIN:VEVENT
DTSTART;TZID=Europe/Paris:20250610T140000
DTEND;TZID=Europe/Paris:20250610T140000
DTSTAMP:20260420T204735
CREATED:20250522T235635Z
LAST-MODIFIED:20250522T235952Z
UID:20121-1749564000-1749564000@amamcs.net
SUMMARY:" Évidence. Dessiner le présent "
DESCRIPTION:Mardi 10 juin à 14h et mercredi 11 juin à 11h \nComment capter l’instant présent et le raconter dans un monde secoué par la violence\, les crises mondiales et l’effritement des structures politiques ? C’est la question centrale de l’exposition « Évidence »\, qui réunit quatre artistes internationaux : Mounira Al Solh\, Nino Bulling\, Neïla Czermak Ichti et Mazen Kerbaj \nPour ces visites\, merci de vous inscrire auprès de nadya.cornu@gmail.com
URL:https://amamcs.net/evenement/evidence-dessiner-le-present/
LOCATION:Musée Tomi Ungerer\, 2 avenue de la Marseillaise - Villa Greiner\, Strasbourg\, 67000\, France
CATEGORIES:Visites commentées
ATTACH;FMTTYPE=image/jpeg:https://amamcs.net/wp-content/uploads/2025/05/affi_CED_Evidence_A3_ok_070225.jpg
END:VEVENT
BEGIN:VEVENT
DTSTART;TZID=Europe/Paris:20250611T110000
DTEND;TZID=Europe/Paris:20250611T110000
DTSTAMP:20260420T204735
CREATED:20250523T002933Z
LAST-MODIFIED:20250523T002933Z
UID:20129-1749639600-1749639600@amamcs.net
SUMMARY:" Évidence. Dessiner le présent "
DESCRIPTION:Mardi 10 juin à 14h et mercredi 11 juin à 11h \nComment capter l’instant présent et le raconter dans un monde secoué par la violence\, les crises mondiales et l’effritement des structures politiques ? C’est la question centrale de l’exposition « Évidence »\, qui réunit quatre artistes internationaux : Mounira Al Solh\, Nino Bulling\, Neïla Czermak Ichti et Mazen Kerbaj \nPour ces visites\, merci de vous inscrire auprès de nadya.cornu@gmail.com
URL:https://amamcs.net/evenement/evidence-dessiner-le-present-2/
LOCATION:Musée Tomi Ungerer\, 2 avenue de la Marseillaise - Villa Greiner\, Strasbourg\, 67000\, France
CATEGORIES:Visites commentées
ATTACH;FMTTYPE=image/jpeg:https://amamcs.net/wp-content/uploads/2025/05/affi_CED_Evidence_A3_ok_070225.jpg
END:VEVENT
BEGIN:VEVENT
DTSTART;TZID=Europe/Paris:20250613T180000
DTEND;TZID=Europe/Paris:20250613T180000
DTSTAMP:20260420T204735
CREATED:20250523T012539Z
LAST-MODIFIED:20250523T013212Z
UID:20140-1749837600-1749837600@amamcs.net
SUMMARY:Gutenberg et ses fantômes -  Odile Liger
DESCRIPTION:Nous vous informons aussi de l’exposition de Odile Liger dont nous avions visité l’atelier\, à la Bibliothèque Malraux\, salle du patrimoine jusqu’au samedi 2 août. \nChez Odile Liger\, la gravure est un lieu d’expérimentation\,de résonance entre l’écriture et le signe\, le dessin et le trait gravé. Jouant de l’impression en creux et en relief\, elle crée des télescopages énigmatiques et des dialogues avec la poésie contemporaine ou le théâtre. La littérature et les livres ne sont jamais loin. \nUne visite commentée de l’exposition aura lieu le vendredi 13 juin de 18h à 19H.
URL:https://amamcs.net/evenement/exposition-odile-liger/
LOCATION:Médiathèque André Malraux\, 1 Presqu'île André-Malraux\, Strasbourg\, 67100
CATEGORIES:Visites commentées
ATTACH;FMTTYPE=image/jpeg:https://amamcs.net/wp-content/uploads/2025/05/158620-expoetvisitecommenteegutenbergetsesfantomesjpg-thumb-w.jpg
END:VEVENT
END:VCALENDAR