BEGIN:VCALENDAR
VERSION:2.0
PRODID:-//Amamcs - Amis du Musée d&#039;Art Moderne et Contemporain de Strasbourg - ECPv6.15.17.1//NONSGML v1.0//EN
CALSCALE:GREGORIAN
METHOD:PUBLISH
X-ORIGINAL-URL:https://amamcs.net
X-WR-CALDESC:Évènements pour Amamcs - Amis du Musée d&#039;Art Moderne et Contemporain de Strasbourg
REFRESH-INTERVAL;VALUE=DURATION:PT1H
X-Robots-Tag:noindex
X-PUBLISHED-TTL:PT1H
BEGIN:VTIMEZONE
TZID:Europe/Paris
BEGIN:DAYLIGHT
TZOFFSETFROM:+0100
TZOFFSETTO:+0200
TZNAME:CEST
DTSTART:20240331T010000
END:DAYLIGHT
BEGIN:STANDARD
TZOFFSETFROM:+0200
TZOFFSETTO:+0100
TZNAME:CET
DTSTART:20241027T010000
END:STANDARD
BEGIN:DAYLIGHT
TZOFFSETFROM:+0100
TZOFFSETTO:+0200
TZNAME:CEST
DTSTART:20250330T010000
END:DAYLIGHT
BEGIN:STANDARD
TZOFFSETFROM:+0200
TZOFFSETTO:+0100
TZNAME:CET
DTSTART:20251026T010000
END:STANDARD
BEGIN:DAYLIGHT
TZOFFSETFROM:+0100
TZOFFSETTO:+0200
TZNAME:CEST
DTSTART:20260329T010000
END:DAYLIGHT
BEGIN:STANDARD
TZOFFSETFROM:+0200
TZOFFSETTO:+0100
TZNAME:CET
DTSTART:20261025T010000
END:STANDARD
END:VTIMEZONE
BEGIN:VEVENT
DTSTART;TZID=Europe/Paris:20251204T160000
DTEND;TZID=Europe/Paris:20251204T160000
DTSTAMP:20260420T104043
CREATED:20251202T104155Z
LAST-MODIFIED:20251202T105929Z
UID:20213-1764864000-1764864000@amamcs.net
SUMMARY:Murmure des âmes
DESCRIPTION:Dimitri Konstantinidis\, directeur de l’Espace Apollonia\, nous accueillera pour une visite de l’exposition « Murmure des âmes » le jeudi 4 décembre à 16h.\n« Murmure des âmes » nous invite à marcher parmi les ombres et à reconnaître\, dans chaque trace\, notre humanité commune.\nPeintures\, installations\, vidéos\, objets : Joseph Bey investit l’Espace Apollonia avec une création immersive où absence et présence s’entrelacent.\nApollonia: 23 rue Boecklin à Strasbourg \nMerci de bien vouloir vous inscrire auprès de      nadya.cornu@gmail.com
URL:https://amamcs.net/evenement/murmure-des-ames/
LOCATION:Espace Apollonia\, 23 Rue Boecklin\, Strasbourg\, 67000\, France
CATEGORIES:Visites commentées
ATTACH;FMTTYPE=image/jpeg:https://amamcs.net/wp-content/uploads/2025/12/murmure-ames.jpg
END:VEVENT
BEGIN:VEVENT
DTSTART;TZID=Europe/Paris:20251205T160000
DTEND;TZID=Europe/Paris:20251205T160000
DTSTAMP:20260420T104044
CREATED:20251202T104612Z
LAST-MODIFIED:20251202T105516Z
UID:20215-1764950400-1764950400@amamcs.net
SUMMARY:Echos du Silence
DESCRIPTION:vendredi 5 décembre à 16h\, nous rencontrerons à la galerie Ritsch Fisch son directeur Richard Solti\, pour une visite de l’exposition « Echos du Silence ».\nLa galerie Ritsch Fisch\, fondée en 1996 présente des œuvres de références de l’art brut historique à la création contemporaine. \nLe travail de Vanessa Garner s’inscrit dans une réflexion élargie sur les frontières entre l’art et l’artisanat\, qui valorisent autant le geste créatif que les matériaux et les techniques traditionnelles. \nEt la pratique de Mitsuru Tateishi s’inscrit dans une dynamique où le geste et la matière s’élaborent dans un rapport de co-création. Ce principe de peinture processuelle\, mouvement apparu dans les années 1960\, met l’accent sur le processus de création plutôt que sur le produit final. \nMerci de bien vouloir vous inscrire auprès de nadya.cornu@gmail.com
URL:https://amamcs.net/evenement/echos-du-silence/
LOCATION:Galerie Ritsch Fisch\, 6 rue des charpentiers\, Strasbourg\, 67000\, France
CATEGORIES:Visites commentées
ATTACH;FMTTYPE=image/jpeg:https://amamcs.net/wp-content/uploads/2025/12/garner-tateishi.jpg
END:VEVENT
END:VCALENDAR