BEGIN:VCALENDAR
VERSION:2.0
PRODID:-//Amamcs - Amis du Musée d&#039;Art Moderne et Contemporain de Strasbourg - ECPv6.15.17.1//NONSGML v1.0//EN
CALSCALE:GREGORIAN
METHOD:PUBLISH
X-ORIGINAL-URL:https://amamcs.net
X-WR-CALDESC:Évènements pour Amamcs - Amis du Musée d&#039;Art Moderne et Contemporain de Strasbourg
REFRESH-INTERVAL;VALUE=DURATION:PT1H
X-Robots-Tag:noindex
X-PUBLISHED-TTL:PT1H
BEGIN:VTIMEZONE
TZID:Europe/Paris
BEGIN:DAYLIGHT
TZOFFSETFROM:+0100
TZOFFSETTO:+0200
TZNAME:CEST
DTSTART:20250330T010000
END:DAYLIGHT
BEGIN:STANDARD
TZOFFSETFROM:+0200
TZOFFSETTO:+0100
TZNAME:CET
DTSTART:20251026T010000
END:STANDARD
BEGIN:DAYLIGHT
TZOFFSETFROM:+0100
TZOFFSETTO:+0200
TZNAME:CEST
DTSTART:20260329T010000
END:DAYLIGHT
BEGIN:STANDARD
TZOFFSETFROM:+0200
TZOFFSETTO:+0100
TZNAME:CET
DTSTART:20261025T010000
END:STANDARD
BEGIN:DAYLIGHT
TZOFFSETFROM:+0100
TZOFFSETTO:+0200
TZNAME:CEST
DTSTART:20270328T010000
END:DAYLIGHT
BEGIN:STANDARD
TZOFFSETFROM:+0200
TZOFFSETTO:+0100
TZNAME:CET
DTSTART:20271031T010000
END:STANDARD
END:VTIMEZONE
BEGIN:VEVENT
DTSTART;TZID=Europe/Paris:20260108T160000
DTEND;TZID=Europe/Paris:20260108T160000
DTSTAMP:20260420T083709
CREATED:20251212T123003Z
LAST-MODIFIED:20251214T200158Z
UID:20226-1767888000-1767888000@amamcs.net
SUMMARY:Yana Kononova "The Basilisk"
DESCRIPTION:A la rentrée de 2026 nous nous retrouverons le jeudi 8 janvier à 16h pour une visite commentée de l’exposition de Yana Kononova « The Basilisk » au pôle de photographie Stimultania\, 33 rue Kageneck à Strasbourg. \nLe travail de Yana Kononova\, photographe ukrainienne\, se situe à la croisée de l’art\, du documentaire et de la recherche visuelle sur les traces laissées par la guerre et les catastrophes écologiques. Depuis le début de l’invasion russe en 2022\, elle développe une œuvre marquée par une attention constante aux formes visibles et invisibles du traumatisme — qu’il soit humain\, territorial ou environnemental. \nMerci de vous inscrire auprès de nadya.cornu@gmail.com
URL:https://amamcs.net/evenement/yana-kononova-the-basilisk/
LOCATION:Stimultania\, 33 Rue Kageneck\, Strasbourg\, 67000\, France
CATEGORIES:Visites commentées
ATTACH;FMTTYPE=image/jpeg:https://amamcs.net/wp-content/uploads/2025/12/Desperation-of-Landscape_Desperations_collage-no-1_2023-e1761923977291-1440x576-1.jpg
END:VEVENT
END:VCALENDAR