BEGIN:VCALENDAR
VERSION:2.0
PRODID:-//Amamcs - Amis du Musée d&#039;Art Moderne et Contemporain de Strasbourg - ECPv6.15.17.1//NONSGML v1.0//EN
CALSCALE:GREGORIAN
METHOD:PUBLISH
X-WR-CALNAME:Amamcs - Amis du Musée d&#039;Art Moderne et Contemporain de Strasbourg
X-ORIGINAL-URL:https://amamcs.net
X-WR-CALDESC:Évènements pour Amamcs - Amis du Musée d&#039;Art Moderne et Contemporain de Strasbourg
REFRESH-INTERVAL;VALUE=DURATION:PT1H
X-Robots-Tag:noindex
X-PUBLISHED-TTL:PT1H
BEGIN:VTIMEZONE
TZID:Europe/Paris
BEGIN:DAYLIGHT
TZOFFSETFROM:+0100
TZOFFSETTO:+0200
TZNAME:CEST
DTSTART:20250330T010000
END:DAYLIGHT
BEGIN:STANDARD
TZOFFSETFROM:+0200
TZOFFSETTO:+0100
TZNAME:CET
DTSTART:20251026T010000
END:STANDARD
BEGIN:DAYLIGHT
TZOFFSETFROM:+0100
TZOFFSETTO:+0200
TZNAME:CEST
DTSTART:20260329T010000
END:DAYLIGHT
BEGIN:STANDARD
TZOFFSETFROM:+0200
TZOFFSETTO:+0100
TZNAME:CET
DTSTART:20261025T010000
END:STANDARD
BEGIN:DAYLIGHT
TZOFFSETFROM:+0100
TZOFFSETTO:+0200
TZNAME:CEST
DTSTART:20270328T010000
END:DAYLIGHT
BEGIN:STANDARD
TZOFFSETFROM:+0200
TZOFFSETTO:+0100
TZNAME:CET
DTSTART:20271031T010000
END:STANDARD
END:VTIMEZONE
BEGIN:VEVENT
DTSTART;TZID=Europe/Paris:20260205T160000
DTEND;TZID=Europe/Paris:20260205T160000
DTSTAMP:20260420T070111
CREATED:20260120T095152Z
LAST-MODIFIED:20260120T095313Z
UID:20244-1770307200-1770307200@amamcs.net
SUMMARY:Visite de l'atelier de Dominique Kippelen
DESCRIPTION:Nous vous proposons une visite de l’atelier de Dominique Kippelen\, 5A\, rue de la Coopérative à Strasbourg.\nBus : ligne 2\, arrêt Coopérative\nTram : ligne Port du Rhin\, arrêt Port du Rhin \nAu fond de l’allée à droite et vous entrez par la rue de la coopérative \nMerci de vous inscrire auprès de nadya.cornu@gmail.com
URL:https://amamcs.net/evenement/visite-de-latelier-de-dominique-kippelen-2/
LOCATION:Atelier de Dominique Kippelen
CATEGORIES:Visites commentées
ATTACH;FMTTYPE=image/jpeg:https://amamcs.net/wp-content/uploads/2024/06/Kippelen-Dominique_1-1-1024x576-1.jpg
END:VEVENT
BEGIN:VEVENT
DTSTART;TZID=Europe/Paris:20260211T110000
DTEND;TZID=Europe/Paris:20260211T110000
DTSTAMP:20260420T070112
CREATED:20260120T100851Z
LAST-MODIFIED:20260120T100851Z
UID:20247-1770807600-1770807600@amamcs.net
SUMMARY:Robert Weaver / Tomi Ungerer. L'illustration en question
DESCRIPTION:Nous nous retrouverons le 11 février à 11h au Musée Tomi Ungerer pour la visite du nouvel accrochage « Robert Weaver / Tomi Ungerer. L’illustration en question ».\nCe nouvel accrochage propose d’explorer le visual journalism\, ou reportage illustré qui repose sur l’observation directe du réel. Robert Weaver\, l’un des mentors de Tomi Ungerer\, en est l’un des pionniers. \nMerci de vous inscrire auprès de nadya.cornu@gmail.com
URL:https://amamcs.net/evenement/robert-weaver-tomi-ungerer-lillustration-en-question/
LOCATION:Musée Tomi Ungerer\, 2 avenue de la Marseillaise - Villa Greiner\, Strasbourg\, 67000\, France
CATEGORIES:Visites commentées
ATTACH;FMTTYPE=image/jpeg:https://amamcs.net/wp-content/uploads/2026/01/expo-Robert-Weaver-Tomi-Ungerer.jpg
END:VEVENT
BEGIN:VEVENT
DTSTART;TZID=Europe/Paris:20260220T160000
DTEND;TZID=Europe/Paris:20260220T160000
DTSTAMP:20260420T070112
CREATED:20260301T202726Z
LAST-MODIFIED:20260301T220209Z
UID:20290-1771603200-1771603200@amamcs.net
SUMMARY:Jean-François Maurige
DESCRIPTION:
URL:https://amamcs.net/evenement/jean-francois-maurige/
LOCATION:Galerie Yves Iffrig\, 6 Rue des Charpentiers\, Strasbourg\, 67000\, France
CATEGORIES:Visites commentées
ATTACH;FMTTYPE=image/webp:https://amamcs.net/wp-content/uploads/2026/03/0-75446500-1767717518-814051-1200-0.webp
END:VEVENT
BEGIN:VEVENT
DTSTART;TZID=Europe/Paris:20260220T163000
DTEND;TZID=Europe/Paris:20260220T163000
DTSTAMP:20260420T070112
CREATED:20260301T210501Z
LAST-MODIFIED:20260301T220109Z
UID:20293-1771605000-1771605000@amamcs.net
SUMMARY:Regards croisés
DESCRIPTION:
URL:https://amamcs.net/evenement/regards-croises/
LOCATION:Galerie Sandra Blum\, 6 Rue des Charpentiers\, Strasbourg\, 67000\, France
CATEGORIES:Visites commentées
ATTACH;FMTTYPE=image/jpeg:https://amamcs.net/wp-content/uploads/2026/03/Affiche-A1-regards-croises-3-web-scaled-1.jpg
END:VEVENT
END:VCALENDAR