BEGIN:VCALENDAR
VERSION:2.0
PRODID:-//Amamcs - Amis du Musée d&#039;Art Moderne et Contemporain de Strasbourg - ECPv6.15.17.1//NONSGML v1.0//EN
CALSCALE:GREGORIAN
METHOD:PUBLISH
X-ORIGINAL-URL:https://amamcs.net
X-WR-CALDESC:Évènements pour Amamcs - Amis du Musée d&#039;Art Moderne et Contemporain de Strasbourg
REFRESH-INTERVAL;VALUE=DURATION:PT1H
X-Robots-Tag:noindex
X-PUBLISHED-TTL:PT1H
BEGIN:VTIMEZONE
TZID:Europe/Paris
BEGIN:DAYLIGHT
TZOFFSETFROM:+0100
TZOFFSETTO:+0200
TZNAME:CEST
DTSTART:20250330T010000
END:DAYLIGHT
BEGIN:STANDARD
TZOFFSETFROM:+0200
TZOFFSETTO:+0100
TZNAME:CET
DTSTART:20251026T010000
END:STANDARD
BEGIN:DAYLIGHT
TZOFFSETFROM:+0100
TZOFFSETTO:+0200
TZNAME:CEST
DTSTART:20260329T010000
END:DAYLIGHT
BEGIN:STANDARD
TZOFFSETFROM:+0200
TZOFFSETTO:+0100
TZNAME:CET
DTSTART:20261025T010000
END:STANDARD
BEGIN:DAYLIGHT
TZOFFSETFROM:+0100
TZOFFSETTO:+0200
TZNAME:CEST
DTSTART:20270328T010000
END:DAYLIGHT
BEGIN:STANDARD
TZOFFSETFROM:+0200
TZOFFSETTO:+0100
TZNAME:CET
DTSTART:20271031T010000
END:STANDARD
END:VTIMEZONE
BEGIN:VEVENT
DTSTART;TZID=Europe/Paris:20260310T143000
DTEND;TZID=Europe/Paris:20260310T143000
DTSTAMP:20260420T052428
CREATED:20260301T222514Z
LAST-MODIFIED:20260301T230544Z
UID:20307-1773153000-1773153000@amamcs.net
SUMMARY:Le temps retourné. Au fil des âges de la vie.
DESCRIPTION: » Le temps retourné. Au fil des âges de la vie « \, au MAMCS\, le mardi 10 mars et le mardi 17 mars à 14h30 par Estelle Pietrzyk\, conservatrice en chef du MAMCS et Thierry Laps\, assistant scientifique. \nDans un parcours conçu comme un cheminement qui va à rebours du déroulé de nos existences (on entre dans un espace «in memoriam» pour terminer dans une salle dédiée à la naissance)\, ce projet invite le visiteur à traverser toutes les phases qui peuvent jalonner une vie. \nmerci de vous inscrire auprès de   nadya.cornu@gmail.com
URL:https://amamcs.net/evenement/le-temps-retourne-au-fil-des-ages-de-la-vie/
LOCATION:Mamcs\, 1 place Hans Jean Arp\, Strasbourg\, 67000
CATEGORIES:Visites commentées
ATTACH;FMTTYPE=image/jpeg:https://amamcs.net/wp-content/uploads/2026/03/teups-retourne.jpg
END:VEVENT
BEGIN:VEVENT
DTSTART;TZID=Europe/Paris:20260317T143000
DTEND;TZID=Europe/Paris:20260317T143000
DTSTAMP:20260420T052428
CREATED:20260301T231153Z
LAST-MODIFIED:20260301T231153Z
UID:20310-1773757800-1773757800@amamcs.net
SUMMARY:Le temps retourné. Au fil des âges de la vie.
DESCRIPTION: » Le temps retourné. Au fil des âges de la vie « \, au MAMCS\, le mardi 10 mars et le mardi 17 mars à 14h30 par Estelle Pietrzyk\, conservatrice en chef du MAMCS et Thierry Laps\, assistant scientifique. \nDans un parcours conçu comme un cheminement qui va à rebours du déroulé de nos existences (on entre dans un espace «in memoriam» pour terminer dans une salle dédiée à la naissance)\, ce projet invite le visiteur à traverser toutes les phases qui peuvent jalonner une vie. \nmerci de vous inscrire auprès de   nadya.cornu@gmail.com
URL:https://amamcs.net/evenement/le-temps-retourne-au-fil-des-ages-de-la-vie-2/
LOCATION:Mamcs\, 1 place Hans Jean Arp\, Strasbourg\, 67000
CATEGORIES:Visites commentées
ATTACH;FMTTYPE=image/jpeg:https://amamcs.net/wp-content/uploads/2026/03/teups-retourne.jpg
END:VEVENT
BEGIN:VEVENT
DTSTART;TZID=Europe/Paris:20260318T150000
DTEND;TZID=Europe/Paris:20260318T150000
DTSTAMP:20260420T052428
CREATED:20260301T231934Z
LAST-MODIFIED:20260301T231934Z
UID:20312-1773846000-1773846000@amamcs.net
SUMMARY:Lumières sur le vivant. Regarder l'art et la nature avec Vincent Munier
DESCRIPTION: » Lumières sur le vivant. Regarder l’art et la nature avec Vincent Munier  » au Musée des Beaux-Arts\, le mercredi 18 mars et le mercredi 25 mars à 15h par Dominique Jacquot\, conservateur du musée des Beaux-Arts. \nL’exposition met en regard des photographies de Vincent Munier avec des oeuvres issues des collections des Musées de la Ville de Strasbourg (Musée des Beaux-Arts\, Cabinet des Estampes et des Dessins\, Musée d’Art moderne et contemporain\, Musée Tomi Ungerer et Musée Zoologique) et allant du XVIe siècle au XXe siècle. Ces œuvres et photographies représentant l’animal et la nature qui l’entoure vont ainsi dialoguer et résonner pour offrir aux visiteurs un moment suspendu de contemplation. \nmerci de vous inscrire auprès de   nadya.cornu@gmail.com
URL:https://amamcs.net/evenement/lumieres-sur-le-vivant-regarder-lart-et-la-nature-avec-vincent-munier/
LOCATION:Musée des Beaux-Arts de Strasbourg – Palais Rohan\, 2 place du Château\, Strasbourg\, 67000\, France
CATEGORIES:Visites commentées
ATTACH;FMTTYPE=image/jpeg:https://amamcs.net/wp-content/uploads/2026/03/affi_MBA_vincent_munier.jpg
END:VEVENT
BEGIN:VEVENT
DTSTART;TZID=Europe/Paris:20260324T143000
DTEND;TZID=Europe/Paris:20260324T143000
DTSTAMP:20260420T052428
CREATED:20260302T001410Z
LAST-MODIFIED:20260302T001410Z
UID:20317-1774362600-1774362600@amamcs.net
SUMMARY:L'état sauvage. L'animal dans les collections du MAMCS et du Musée Zoologique.
DESCRIPTION: » L’état sauvage. L’animal dans les collections du MAMCS et du Musée Zoologique » au MAMCS\, le mardi 24 mars et le mardi 7 avril à 14h30 par Samuel Cordier\, directeur du Musée Zoologique et Coralie Pissis\, attachée de conservation au MAMCS. \nÀ l’occasion de la réouverture du Musée Zoologique\, le projet met ainsi en écho des spécimens issus des collections naturalistes avec les œuvres du MAMCS qui entretiennent un lien profond avec le vivant. \nmerci de vous inscrire auprès de   nadya.cornu@gmail.com
URL:https://amamcs.net/evenement/letat-sauvage-lanimal-dans-les-collections-du-mamcs-et-du-musee-zoologique/
LOCATION:Mamcs\, 1 place Hans Jean Arp\, Strasbourg\, 67000
CATEGORIES:Visites commentées
ATTACH;FMTTYPE=image/jpeg:https://amamcs.net/wp-content/uploads/2026/03/etat-sauvage.jpg
END:VEVENT
BEGIN:VEVENT
DTSTART;TZID=Europe/Paris:20260325T150000
DTEND;TZID=Europe/Paris:20260325T150000
DTSTAMP:20260420T052428
CREATED:20260301T232052Z
LAST-MODIFIED:20260301T232052Z
UID:20315-1774450800-1774450800@amamcs.net
SUMMARY:Lumières sur le vivant. Regarder l'art et la nature avec Vincent Munier
DESCRIPTION: » Lumières sur le vivant. Regarder l’art et la nature avec Vincent Munier  » au Musée des Beaux-Arts\, le mercredi 18 mars et le mercredi 25 mars à 15h par Dominique Jacquot\, conservateur du musée des Beaux-Arts. \nL’exposition met en regard des photographies de Vincent Munier avec des oeuvres issues des collections des Musées de la Ville de Strasbourg (Musée des Beaux-Arts\, Cabinet des Estampes et des Dessins\, Musée d’Art moderne et contemporain\, Musée Tomi Ungerer et Musée Zoologique) et allant du XVIe siècle au XXe siècle. Ces œuvres et photographies représentant l’animal et la nature qui l’entoure vont ainsi dialoguer et résonner pour offrir aux visiteurs un moment suspendu de contemplation. \nmerci de vous inscrire auprès de   nadya.cornu@gmail.com
URL:https://amamcs.net/evenement/lumieres-sur-le-vivant-regarder-lart-et-la-nature-avec-vincent-munier-2/
LOCATION:Musée des Beaux-Arts de Strasbourg – Palais Rohan\, 2 place du Château\, Strasbourg\, 67000\, France
CATEGORIES:Visites commentées
ATTACH;FMTTYPE=image/jpeg:https://amamcs.net/wp-content/uploads/2026/03/affi_MBA_vincent_munier.jpg
END:VEVENT
END:VCALENDAR