BEGIN:VCALENDAR
VERSION:2.0
PRODID:-//Amamcs - Amis du Musée d&#039;Art Moderne et Contemporain de Strasbourg - ECPv6.15.20//NONSGML v1.0//EN
CALSCALE:GREGORIAN
METHOD:PUBLISH
X-WR-CALNAME:Amamcs - Amis du Musée d&#039;Art Moderne et Contemporain de Strasbourg
X-ORIGINAL-URL:https://amamcs.net
X-WR-CALDESC:Évènements pour Amamcs - Amis du Musée d&#039;Art Moderne et Contemporain de Strasbourg
REFRESH-INTERVAL;VALUE=DURATION:PT1H
X-Robots-Tag:noindex
X-PUBLISHED-TTL:PT1H
BEGIN:VTIMEZONE
TZID:Europe/Paris
BEGIN:DAYLIGHT
TZOFFSETFROM:+0100
TZOFFSETTO:+0200
TZNAME:CEST
DTSTART:20210328T010000
END:DAYLIGHT
BEGIN:STANDARD
TZOFFSETFROM:+0200
TZOFFSETTO:+0100
TZNAME:CET
DTSTART:20211031T010000
END:STANDARD
BEGIN:DAYLIGHT
TZOFFSETFROM:+0100
TZOFFSETTO:+0200
TZNAME:CEST
DTSTART:20220327T010000
END:DAYLIGHT
BEGIN:STANDARD
TZOFFSETFROM:+0200
TZOFFSETTO:+0100
TZNAME:CET
DTSTART:20221030T010000
END:STANDARD
BEGIN:DAYLIGHT
TZOFFSETFROM:+0100
TZOFFSETTO:+0200
TZNAME:CEST
DTSTART:20230326T010000
END:DAYLIGHT
BEGIN:STANDARD
TZOFFSETFROM:+0200
TZOFFSETTO:+0100
TZNAME:CET
DTSTART:20231029T010000
END:STANDARD
END:VTIMEZONE
BEGIN:VEVENT
DTSTART;TZID=Europe/Paris:20220122T150000
DTEND;TZID=Europe/Paris:20220122T150000
DTSTAMP:20260423T230152
CREATED:20220104T185551Z
LAST-MODIFIED:20220104T185755Z
UID:16969-1642863600-1642863600@amamcs.net
SUMMARY:Jacques Villeglé
DESCRIPTION:Jacques Villeglé est un artiste majeur de l’art contemporain\, membre fondateur du groupe d’artistes les Nouveaux Réalistes en 1960. L’exposition montre la richesse de ses décollages d’affiches lacérées glanées dans les rues parisiennes à travers une sélection exceptionnelle de petits formats historiques de 1958 jusqu’à 1990. Ils accompagnent des éditions récentes provenant de son atelier (objets\, sculptures\, estampes) ainsi qu’une série de photographies de reportage réalisées par son ami François Poivret. \nMerci de vous inscrire auprès de   nadya.cornu@gmail.com
URL:https://amamcs.net/evenement/jacques-villegle/
LOCATION:Galerie Delphine Courtay\, 120 Grand'Rue\, Strasbourg\, 67000\, France
CATEGORIES:Visites commentées
ATTACH;FMTTYPE=image/jpeg:https://amamcs.net/wp-content/uploads/2022/01/affiche-769x1024-1.jpg
END:VEVENT
END:VCALENDAR