BEGIN:VCALENDAR
VERSION:2.0
PRODID:-//Amamcs - Amis du Musée d&#039;Art Moderne et Contemporain de Strasbourg - ECPv6.15.20//NONSGML v1.0//EN
CALSCALE:GREGORIAN
METHOD:PUBLISH
X-WR-CALNAME:Amamcs - Amis du Musée d&#039;Art Moderne et Contemporain de Strasbourg
X-ORIGINAL-URL:https://amamcs.net
X-WR-CALDESC:Évènements pour Amamcs - Amis du Musée d&#039;Art Moderne et Contemporain de Strasbourg
REFRESH-INTERVAL;VALUE=DURATION:PT1H
X-Robots-Tag:noindex
X-PUBLISHED-TTL:PT1H
BEGIN:VTIMEZONE
TZID:UTC
BEGIN:STANDARD
TZOFFSETFROM:+0000
TZOFFSETTO:+0000
TZNAME:UTC
DTSTART:20210101T000000
END:STANDARD
END:VTIMEZONE
BEGIN:VEVENT
DTSTART;TZID=UTC:20220616T110000
DTEND;TZID=UTC:20220616T110000
DTSTAMP:20260423T141504
CREATED:20220526T212636Z
LAST-MODIFIED:20220526T215752Z
UID:19413-1655377200-1655377200@amamcs.net
SUMMARY:"Folon. Un rêveur engagé"
DESCRIPTION:Jeudi 16 juin à 11h\, exposition « Folon. Un rêveur engagé »\, au Musée Tomi Ungerer.\nMerci de vous inscrire auprès de Pierre Fickinger pierref@estvideo.fr
URL:https://amamcs.net/evenement/folon-un-reveur-engage/
LOCATION:Musée Tomi Ungerer\, 2 avenue de la Marseillaise - Villa Greiner\, Strasbourg\, 67000\, France
CATEGORIES:Visites commentées
ATTACH;FMTTYPE=image/jpeg:https://amamcs.net/wp-content/uploads/2022/05/illustration-folon-un-reveur-engage_1-1644937662.jpeg
END:VEVENT
END:VCALENDAR