BEGIN:VCALENDAR
VERSION:2.0
PRODID:-//Amamcs - Amis du Musée d&#039;Art Moderne et Contemporain de Strasbourg - ECPv6.15.20//NONSGML v1.0//EN
CALSCALE:GREGORIAN
METHOD:PUBLISH
X-WR-CALNAME:Amamcs - Amis du Musée d&#039;Art Moderne et Contemporain de Strasbourg
X-ORIGINAL-URL:https://amamcs.net
X-WR-CALDESC:Évènements pour Amamcs - Amis du Musée d&#039;Art Moderne et Contemporain de Strasbourg
REFRESH-INTERVAL;VALUE=DURATION:PT1H
X-Robots-Tag:noindex
X-PUBLISHED-TTL:PT1H
BEGIN:VTIMEZONE
TZID:UTC
BEGIN:STANDARD
TZOFFSETFROM:+0000
TZOFFSETTO:+0000
TZNAME:UTC
DTSTART:20210101T000000
END:STANDARD
END:VTIMEZONE
BEGIN:VEVENT
DTSTART;TZID=UTC:20221022T153000
DTEND;TZID=UTC:20221022T153000
DTSTAMP:20260423T070604
CREATED:20221020T210348Z
LAST-MODIFIED:20221020T210657Z
UID:19481-1666452600-1666452600@amamcs.net
SUMMARY:Le chant des étoiles - Fabienne Verdier
DESCRIPTION:Nous sommes très heureux de vous proposer\, samedi prochain 22 octobre à 15h30\, une visite de l’exposition « le chant des étoiles » de Fabienne Verdier au Musée Unterlinden à Colmar. La visite sera commentée par Frédérique Goerig Hergott\, commissaire de l’exposition. \nL’exposition témoigne de la rencontre de l’artiste\, entre 2019 et 2022\, avec les chefs-d’œuvre du musée dont le Retable d’Issenheim. \nLes œuvres de Fabienne Verdier sont présentées dans le parcours des collections\, en dialogue avec un choix d’œuvres d’art moderne et ancien et l’exposition se poursuit avec une installation monumentale. \nLe groupe sera limité à 25 personnes. Merci de bien vouloir vous inscrire auprès de   nadya.cornu@gmail.com \nNous aurons rendez-vous à Colmar dans l’entrée du musée à 15h15.
URL:https://amamcs.net/evenement/le-chant-des-etoiles-fabienne-verdier/
LOCATION:Musée Unterlinden\, 1 Rue des Unterlinden\, Colmar\, 68000\, France
CATEGORIES:Visites commentées
ATTACH;FMTTYPE=image/jpeg:https://amamcs.net/wp-content/uploads/2022/10/2022_7420_VERDIER_WEB_ACCUEIL.jpg
END:VEVENT
END:VCALENDAR