BEGIN:VCALENDAR
VERSION:2.0
PRODID:-//Amamcs - Amis du Musée d&#039;Art Moderne et Contemporain de Strasbourg - ECPv6.15.20//NONSGML v1.0//EN
CALSCALE:GREGORIAN
METHOD:PUBLISH
X-WR-CALNAME:Amamcs - Amis du Musée d&#039;Art Moderne et Contemporain de Strasbourg
X-ORIGINAL-URL:https://amamcs.net
X-WR-CALDESC:Évènements pour Amamcs - Amis du Musée d&#039;Art Moderne et Contemporain de Strasbourg
REFRESH-INTERVAL;VALUE=DURATION:PT1H
X-Robots-Tag:noindex
X-PUBLISHED-TTL:PT1H
BEGIN:VTIMEZONE
TZID:UTC
BEGIN:STANDARD
TZOFFSETFROM:+0000
TZOFFSETTO:+0000
TZNAME:UTC
DTSTART:20210101T000000
END:STANDARD
END:VTIMEZONE
BEGIN:VEVENT
DTSTART;TZID=UTC:20221206T150000
DTEND;TZID=UTC:20221206T150000
DTSTAMP:20260423T032407
CREATED:20221128T134241Z
LAST-MODIFIED:20221128T150146Z
UID:19487-1670338800-1670338800@amamcs.net
SUMMARY:SurréAlice
DESCRIPTION:Le mardi 6 décembre à 15h et le jeudi 12 janvier à 15h\, deux visites de l’exposition « SurréAlice » commentées par Barbara Forest\, co-commissaire de l’exposition. \nLes groupes sont limités à 25 personnes. Merci de vous inscrire auprès de   nadya.cornu@gmail.com\nMerci aussi d’être très précis dans vos demandes d’inscriptions.\nNous serons très heureux de vous retrouver à ces occasions. \nBien amicalement.\nnadya Cornu
URL:https://amamcs.net/evenement/surrealice/
LOCATION:Mamcs\, 1 place Hans Jean Arp\, Strasbourg\, 67000
CATEGORIES:Visites commentées
ATTACH;FMTTYPE=image/jpeg:https://amamcs.net/wp-content/uploads/2022/11/affi_MAMCS_SurreAlice_A3_pantone_3mm_page-0001.jpg
END:VEVENT
END:VCALENDAR