BEGIN:VCALENDAR
VERSION:2.0
PRODID:-//Amamcs - Amis du Musée d&#039;Art Moderne et Contemporain de Strasbourg - ECPv6.15.20//NONSGML v1.0//EN
CALSCALE:GREGORIAN
METHOD:PUBLISH
X-WR-CALNAME:Amamcs - Amis du Musée d&#039;Art Moderne et Contemporain de Strasbourg
X-ORIGINAL-URL:https://amamcs.net
X-WR-CALDESC:Évènements pour Amamcs - Amis du Musée d&#039;Art Moderne et Contemporain de Strasbourg
REFRESH-INTERVAL;VALUE=DURATION:PT1H
X-Robots-Tag:noindex
X-PUBLISHED-TTL:PT1H
BEGIN:VTIMEZONE
TZID:UTC
BEGIN:STANDARD
TZOFFSETFROM:+0000
TZOFFSETTO:+0000
TZNAME:UTC
DTSTART:20210101T000000
END:STANDARD
END:VTIMEZONE
BEGIN:VEVENT
DTSTART;TZID=UTC:20221211T151500
DTEND;TZID=UTC:20221211T151500
DTSTAMP:20260423T032410
CREATED:20221209T094840Z
LAST-MODIFIED:20221209T094840Z
UID:19524-1670771700-1670771700@amamcs.net
SUMMARY:"Le regard poétique" - Jacques Thomann
DESCRIPTION:Nous vous proposons une visite de l’exposition « Le regard poétique » du peintre Jacques Thomann ( Commissaire Germain Roesz ) au Pôle culturel\, Espace d’art PASO de Drusenheim ce dimanche 11 décembre à 15h15\, en présence de l’artiste. \nVous pouvez vous y rendre en voiture ou en train. TER au départ de Strasbourg à 14h50 arrivée à Drusenheim à 15h15\, puis 15 minutes de marche jusqu’au Pôle culturel. Le retour est à 17h11\, arrivée à Strasbourg à 17h40.\nJean-Louis Mandel qui organise cette visite et nous y accompagnera\, prendra le TER.
URL:https://amamcs.net/evenement/le-regard-poetique-jacques-thomann/
LOCATION:Espace d’art PASO\, 2 Rue du Stade\, DRUSENHEIM\, 67410\, France
CATEGORIES:Visites commentées
ATTACH;FMTTYPE=image/jpeg:https://amamcs.net/wp-content/uploads/2022/12/cOfxhHGsAdhpiP8v-scaled.jpg
END:VEVENT
END:VCALENDAR