BEGIN:VCALENDAR
VERSION:2.0
PRODID:-//Amamcs - Amis du Musée d&#039;Art Moderne et Contemporain de Strasbourg - ECPv6.15.20//NONSGML v1.0//EN
CALSCALE:GREGORIAN
METHOD:PUBLISH
X-ORIGINAL-URL:https://amamcs.net
X-WR-CALDESC:Évènements pour Amamcs - Amis du Musée d&#039;Art Moderne et Contemporain de Strasbourg
REFRESH-INTERVAL;VALUE=DURATION:PT1H
X-Robots-Tag:noindex
X-PUBLISHED-TTL:PT1H
BEGIN:VTIMEZONE
TZID:UTC
BEGIN:STANDARD
TZOFFSETFROM:+0000
TZOFFSETTO:+0000
TZNAME:UTC
DTSTART:20210101T000000
END:STANDARD
END:VTIMEZONE
BEGIN:VEVENT
DTSTART;TZID=UTC:20221213T150000
DTEND;TZID=UTC:20221213T150000
DTSTAMP:20260423T031650
CREATED:20221128T155454Z
LAST-MODIFIED:20221128T171246Z
UID:19512-1670943600-1670943600@amamcs.net
SUMMARY:Art brut
DESCRIPTION:Le mardi 13 décembre 2022  à 15h nous vous retrouverons à Erstein au Musée Würth pour une visite de l’exposition « Art brut » commentée par Jean-Pierre Ritsch-Fisch. \nLe groupe est limité à 25 personnes. Merci de vous inscrire auprès de    nadya.cornu@gmail.com
URL:https://amamcs.net/evenement/art-brut/
LOCATION:Musée Würth\, ZI OUEST\, Rue Georges Besse\, Erstein\, 67150\, France
CATEGORIES:Visites commentées
ATTACH;FMTTYPE=image/jpeg:https://amamcs.net/wp-content/uploads/2022/11/Post-Instagram_Art-Brut.jpg
END:VEVENT
END:VCALENDAR