BEGIN:VCALENDAR
VERSION:2.0
PRODID:-//Amamcs - Amis du Musée d&#039;Art Moderne et Contemporain de Strasbourg - ECPv6.15.20//NONSGML v1.0//EN
CALSCALE:GREGORIAN
METHOD:PUBLISH
X-ORIGINAL-URL:https://amamcs.net
X-WR-CALDESC:Évènements pour Amamcs - Amis du Musée d&#039;Art Moderne et Contemporain de Strasbourg
REFRESH-INTERVAL;VALUE=DURATION:PT1H
X-Robots-Tag:noindex
X-PUBLISHED-TTL:PT1H
BEGIN:VTIMEZONE
TZID:UTC
BEGIN:STANDARD
TZOFFSETFROM:+0000
TZOFFSETTO:+0000
TZNAME:UTC
DTSTART:20220101T000000
END:STANDARD
END:VTIMEZONE
BEGIN:VEVENT
DTSTART;TZID=UTC:20230110T103000
DTEND;TZID=UTC:20230110T103000
DTSTAMP:20260423T013129
CREATED:20221128T134941Z
LAST-MODIFIED:20221209T090436Z
UID:19493-1673346600-1673346600@amamcs.net
SUMMARY:Illustr'Alice
DESCRIPTION:Le mardi 10 janvier à 10h30\, visite de l’exposition « Illustr’Alice« \, par Thérèse Willer\, commissaire de l’exposition. \nLes groupes sont limités à 25 personnes. Merci de vous inscrire auprès de   nadya.cornu@gmail.com\nMerci aussi d’être très précis dans vos demandes d’inscriptions.\nNous serons très heureux de vous retrouver à ces occasions. \nBien amicalement.\nnadya Cornu \n 
URL:https://amamcs.net/evenement/illustralice/
LOCATION:Musée Tomi Ungerer\, 2 avenue de la Marseillaise - Villa Greiner\, Strasbourg\, 67000\, France
CATEGORIES:Visites commentées
ATTACH;FMTTYPE=image/jpeg:https://amamcs.net/wp-content/uploads/2022/11/affi_MAMCS_SurreAlice_A3_pantone_3mm_page-0001.jpg
END:VEVENT
END:VCALENDAR