BEGIN:VCALENDAR
VERSION:2.0
PRODID:-//Amamcs - Amis du Musée d&#039;Art Moderne et Contemporain de Strasbourg - ECPv6.15.20//NONSGML v1.0//EN
CALSCALE:GREGORIAN
METHOD:PUBLISH
X-ORIGINAL-URL:https://amamcs.net
X-WR-CALDESC:Évènements pour Amamcs - Amis du Musée d&#039;Art Moderne et Contemporain de Strasbourg
REFRESH-INTERVAL;VALUE=DURATION:PT1H
X-Robots-Tag:noindex
X-PUBLISHED-TTL:PT1H
BEGIN:VTIMEZONE
TZID:UTC
BEGIN:STANDARD
TZOFFSETFROM:+0000
TZOFFSETTO:+0000
TZNAME:UTC
DTSTART:20220101T000000
END:STANDARD
END:VTIMEZONE
BEGIN:VEVENT
DTSTART;TZID=UTC:20230119T150000
DTEND;TZID=UTC:20230119T150000
DTSTAMP:20260423T013214
CREATED:20221128T134756Z
LAST-MODIFIED:20221128T151204Z
UID:19491-1674140400-1674140400@amamcs.net
SUMMARY:D'absurde à Zibou\, le dictionnaire surréaliste des collections du musée
DESCRIPTION:Le jeudi 19 janvier à 15h\, visite par Thierry Laps\, attaché de conservation\, de « D’absurde à Zibou\, le dictionnaire surréaliste des collections du musée » \nLes groupes sont limités à 25 personnes. Merci de vous inscrire auprès de   nadya.cornu@gmail.com\nMerci aussi d’être très précis dans vos demandes d’inscriptions.\nNous serons très heureux de vous retrouver à ces occasions. \nBien amicalement.\nnadya Cornu
URL:https://amamcs.net/evenement/dabsurde-a-zibou-le-dictionnaire-surrealiste-des-collections-du-musee/
LOCATION:Mamcs\, 1 place Hans Jean Arp\, Strasbourg\, 67000
CATEGORIES:Visites commentées
ATTACH;FMTTYPE=image/jpeg:https://amamcs.net/wp-content/uploads/2022/11/affi_MAMCS_SurreAlice_A3_pantone_3mm_page-0001.jpg
END:VEVENT
END:VCALENDAR