BEGIN:VCALENDAR
VERSION:2.0
PRODID:-//Amamcs - Amis du Musée d&#039;Art Moderne et Contemporain de Strasbourg - ECPv6.15.20//NONSGML v1.0//EN
CALSCALE:GREGORIAN
METHOD:PUBLISH
X-ORIGINAL-URL:https://amamcs.net
X-WR-CALDESC:Évènements pour Amamcs - Amis du Musée d&#039;Art Moderne et Contemporain de Strasbourg
REFRESH-INTERVAL;VALUE=DURATION:PT1H
X-Robots-Tag:noindex
X-PUBLISHED-TTL:PT1H
BEGIN:VTIMEZONE
TZID:Europe/Paris
BEGIN:DAYLIGHT
TZOFFSETFROM:+0100
TZOFFSETTO:+0200
TZNAME:CEST
DTSTART:20220327T010000
END:DAYLIGHT
BEGIN:STANDARD
TZOFFSETFROM:+0200
TZOFFSETTO:+0100
TZNAME:CET
DTSTART:20221030T010000
END:STANDARD
BEGIN:DAYLIGHT
TZOFFSETFROM:+0100
TZOFFSETTO:+0200
TZNAME:CEST
DTSTART:20230326T010000
END:DAYLIGHT
BEGIN:STANDARD
TZOFFSETFROM:+0200
TZOFFSETTO:+0100
TZNAME:CET
DTSTART:20231029T010000
END:STANDARD
BEGIN:DAYLIGHT
TZOFFSETFROM:+0100
TZOFFSETTO:+0200
TZNAME:CEST
DTSTART:20240331T010000
END:DAYLIGHT
BEGIN:STANDARD
TZOFFSETFROM:+0200
TZOFFSETTO:+0100
TZNAME:CET
DTSTART:20241027T010000
END:STANDARD
END:VTIMEZONE
BEGIN:VEVENT
DTSTART;TZID=Europe/Paris:20230503T143000
DTEND;TZID=Europe/Paris:20230503T143000
DTSTAMP:20260422T180118
CREATED:20230421T181531Z
LAST-MODIFIED:20230421T182026Z
UID:19623-1683124200-1683124200@amamcs.net
SUMMARY:Re-découvrir le quartier COOP (Port du Rhin)
DESCRIPTION:Nous vous proposons\, mercredi 3 mai\, de re-découvrir le quartier COOP (Port du Rhin)\, où se bâtit actuellement le projet architectural d’Alexandre Chemetoff. \nRendez-vous à 14 h 30 au « Point Coop »\, 18 rue du port du Rhin (bus L2\, arrêt « Coopérative ») pour une présentation commentée par Benjamin Pellegrin\, chef de projet communication-médiation de la SPL des Deux-Rives\, qui mène ce projet de réhabilitation du quartier\, de la maquette permettant de se représenter le réaménagement en cours de cette zone portuaire\, qui va de la presqu’île Citadelle à Kehl. \nNous irons ensuite à la découverte commentée de l’avancement de la transformation de ce quartier de l’ancienne COOP\, avec un coup d’œil au bâtiment des réserves des musées de Strasbourg (ex « Union sociale »)\, un autre à l’ex « Cave à vin » ainsi qu’à la « Virgule » avec également des rencontres avec les artistes de la Basse Cour des Miracles (notamment Daniel Depoutot). \nCette visite étant limitée en nombre de personnes\, nous vous demandons de vous inscrire auprès de Mireille Nonnenmacher en envoyant un message avec votre nom et prénom à l’adresse suivante : nonnenmacher.mireille@gmail.com
URL:https://amamcs.net/evenement/re-decouvrir-le-quartier-coop-port-du-rhin/
LOCATION:Point Coop\, 18 rue du port du Rhin\, strasbourg\, 67000\, France
CATEGORIES:Visites commentées
ATTACH;FMTTYPE=image/jpeg:https://amamcs.net/wp-content/uploads/2023/04/img-parlons-en.jpg
END:VEVENT
END:VCALENDAR