BEGIN:VCALENDAR
VERSION:2.0
PRODID:-//Amamcs - Amis du Musée d&#039;Art Moderne et Contemporain de Strasbourg - ECPv6.15.20//NONSGML v1.0//EN
CALSCALE:GREGORIAN
METHOD:PUBLISH
X-WR-CALNAME:Amamcs - Amis du Musée d&#039;Art Moderne et Contemporain de Strasbourg
X-ORIGINAL-URL:https://amamcs.net
X-WR-CALDESC:Évènements pour Amamcs - Amis du Musée d&#039;Art Moderne et Contemporain de Strasbourg
REFRESH-INTERVAL;VALUE=DURATION:PT1H
X-Robots-Tag:noindex
X-PUBLISHED-TTL:PT1H
BEGIN:VTIMEZONE
TZID:Europe/Paris
BEGIN:DAYLIGHT
TZOFFSETFROM:+0100
TZOFFSETTO:+0200
TZNAME:CEST
DTSTART:20220327T010000
END:DAYLIGHT
BEGIN:STANDARD
TZOFFSETFROM:+0200
TZOFFSETTO:+0100
TZNAME:CET
DTSTART:20221030T010000
END:STANDARD
BEGIN:DAYLIGHT
TZOFFSETFROM:+0100
TZOFFSETTO:+0200
TZNAME:CEST
DTSTART:20230326T010000
END:DAYLIGHT
BEGIN:STANDARD
TZOFFSETFROM:+0200
TZOFFSETTO:+0100
TZNAME:CET
DTSTART:20231029T010000
END:STANDARD
BEGIN:DAYLIGHT
TZOFFSETFROM:+0100
TZOFFSETTO:+0200
TZNAME:CEST
DTSTART:20240331T010000
END:DAYLIGHT
BEGIN:STANDARD
TZOFFSETFROM:+0200
TZOFFSETTO:+0100
TZNAME:CET
DTSTART:20241027T010000
END:STANDARD
END:VTIMEZONE
BEGIN:VEVENT
DTSTART;TZID=Europe/Paris:20230524T163000
DTEND;TZID=Europe/Paris:20230524T163000
DTSTAMP:20260422T175547
CREATED:20230421T184828Z
LAST-MODIFIED:20230421T191507Z
UID:19634-1684945800-1684945800@amamcs.net
SUMMARY:"L'herbe aux yeux Bleus"\, Sophie Zénon - La Chambre
DESCRIPTION:Nous vous proposons aussi une visite guidée de l’exposition « L’herbe aux yeux Bleus » de Sophie Zénon à La Chambre\, le mercredi 24 mai à 16h30. \nEn travaillant sur les migrations végétales\, l’artiste se confronte au défi de donner une forme à l’histoire par l’image\, par les fils d’une œuvre organique et symbiotique. Les pièces présentées ont été réalisées dans le cadre d’une résidence de création au long cours portée par La Chambre.
URL:https://amamcs.net/evenement/lherbe-aux-yeux-bleus-sophie-zenon-la-chambre/
LOCATION:La Chambre\, 4 place d’Austerlitz\, Strasbourg\, 67000
CATEGORIES:Visites commentées
ATTACH;FMTTYPE=image/jpeg:https://amamcs.net/wp-content/uploads/2023/04/01-Geranium-des-pres-Sophie-Zenon.jpeg
END:VEVENT
END:VCALENDAR