BEGIN:VCALENDAR
VERSION:2.0
PRODID:-//Amamcs - Amis du Musée d&#039;Art Moderne et Contemporain de Strasbourg - ECPv6.15.20//NONSGML v1.0//EN
CALSCALE:GREGORIAN
METHOD:PUBLISH
X-WR-CALNAME:Amamcs - Amis du Musée d&#039;Art Moderne et Contemporain de Strasbourg
X-ORIGINAL-URL:https://amamcs.net
X-WR-CALDESC:Évènements pour Amamcs - Amis du Musée d&#039;Art Moderne et Contemporain de Strasbourg
REFRESH-INTERVAL;VALUE=DURATION:PT1H
X-Robots-Tag:noindex
X-PUBLISHED-TTL:PT1H
BEGIN:VTIMEZONE
TZID:Europe/Paris
BEGIN:DAYLIGHT
TZOFFSETFROM:+0100
TZOFFSETTO:+0200
TZNAME:CEST
DTSTART:20220327T010000
END:DAYLIGHT
BEGIN:STANDARD
TZOFFSETFROM:+0200
TZOFFSETTO:+0100
TZNAME:CET
DTSTART:20221030T010000
END:STANDARD
BEGIN:DAYLIGHT
TZOFFSETFROM:+0100
TZOFFSETTO:+0200
TZNAME:CEST
DTSTART:20230326T010000
END:DAYLIGHT
BEGIN:STANDARD
TZOFFSETFROM:+0200
TZOFFSETTO:+0100
TZNAME:CET
DTSTART:20231029T010000
END:STANDARD
BEGIN:DAYLIGHT
TZOFFSETFROM:+0100
TZOFFSETTO:+0200
TZNAME:CEST
DTSTART:20240331T010000
END:DAYLIGHT
BEGIN:STANDARD
TZOFFSETFROM:+0200
TZOFFSETTO:+0100
TZNAME:CET
DTSTART:20241027T010000
END:STANDARD
END:VTIMEZONE
BEGIN:VEVENT
DTSTART;TZID=Europe/Paris:20230906T150000
DTEND;TZID=Europe/Paris:20230906T150000
DTSTAMP:20260422T112135
CREATED:20230828T081515Z
LAST-MODIFIED:20230828T084731Z
UID:19656-1694012400-1694012400@amamcs.net
SUMMARY:Être ou paraître
DESCRIPTION:Nous vous proposons aussi une visite de l’exposition « Être ou paraître » au MAMCS le mercredi 6 septembre à 15h. Elle sera commentée par Barbara Forest\, conservatrice en chef du patrimoine au musée. \n« Être ou paraître » se propose de questionner les formes du costume\, son usage et ses représentations à travers une soixantaine d’œuvres du musée\, datées de 1860 à nos jours. Elles témoignent de la volonté des artistes de définir des typologies ou de souligner la singularité d’un individu par une simple chemise ou un déguisement. \nAvec le concours exceptionnel de l’Opéra national du Rhin. \nLe groupe est limité à 25 personnes pour cette visite\, merci de vous inscrire auprès de nadya.cornu@gmail.com \n 
URL:https://amamcs.net/evenement/etre-ou-paraitre/
LOCATION:Mamcs\, 1 place Hans Jean Arp\, Strasbourg\, 67000
CATEGORIES:Visites commentées
ATTACH;FMTTYPE=image/jpeg:https://amamcs.net/wp-content/uploads/2023/08/Michel-Aubry_Tatline_1-1.jpg
END:VEVENT
END:VCALENDAR