BEGIN:VCALENDAR
VERSION:2.0
PRODID:-//Amamcs - Amis du Musée d&#039;Art Moderne et Contemporain de Strasbourg - ECPv6.15.20//NONSGML v1.0//EN
CALSCALE:GREGORIAN
METHOD:PUBLISH
X-ORIGINAL-URL:https://amamcs.net
X-WR-CALDESC:Évènements pour Amamcs - Amis du Musée d&#039;Art Moderne et Contemporain de Strasbourg
REFRESH-INTERVAL;VALUE=DURATION:PT1H
X-Robots-Tag:noindex
X-PUBLISHED-TTL:PT1H
BEGIN:VTIMEZONE
TZID:Europe/Paris
BEGIN:DAYLIGHT
TZOFFSETFROM:+0100
TZOFFSETTO:+0200
TZNAME:CEST
DTSTART:20230326T010000
END:DAYLIGHT
BEGIN:STANDARD
TZOFFSETFROM:+0200
TZOFFSETTO:+0100
TZNAME:CET
DTSTART:20231029T010000
END:STANDARD
BEGIN:DAYLIGHT
TZOFFSETFROM:+0100
TZOFFSETTO:+0200
TZNAME:CEST
DTSTART:20240331T010000
END:DAYLIGHT
BEGIN:STANDARD
TZOFFSETFROM:+0200
TZOFFSETTO:+0100
TZNAME:CET
DTSTART:20241027T010000
END:STANDARD
BEGIN:DAYLIGHT
TZOFFSETFROM:+0100
TZOFFSETTO:+0200
TZNAME:CEST
DTSTART:20250330T010000
END:DAYLIGHT
BEGIN:STANDARD
TZOFFSETFROM:+0200
TZOFFSETTO:+0100
TZNAME:CET
DTSTART:20251026T010000
END:STANDARD
END:VTIMEZONE
BEGIN:VEVENT
DTSTART;TZID=Europe/Paris:20240110T163000
DTEND;TZID=Europe/Paris:20240110T163000
DTSTAMP:20260422T035137
CREATED:20240124T214832Z
LAST-MODIFIED:20240124T224841Z
UID:19750-1704904200-1704904200@amamcs.net
SUMMARY:"Silhouettes"\, de Charles Fréger
DESCRIPTION:Mercredi 10 janvier à 16h30\, nous pourrons voir à La Chambre\, place d’Austerlitz à Strasbourg\, l’exposition de photos « Silhouettes »\, de Charles Fréger. \nFaisant suite à une résidence au long cours menée en partenariat avec le Musée Alsacien de Strasbourg et portant sur la construction de l’identité alsacienne au fil de son histoire mouvementée\, cette exposition pose une lumière particulière sur le travail de l’artiste. \nFaisant écho à l’exposition au musée\, elle revient sur l’utilisation de la silhouette photographique comme moyen de représentation de figures archétypales des cultures régionales.
URL:https://amamcs.net/evenement/silhouettes-de-charles-freger/
LOCATION:La Chambre\, 4 place d’Austerlitz\, Strasbourg\, 67000
CATEGORIES:Visites commentées
ATTACH;FMTTYPE=image/png:https://amamcs.net/wp-content/uploads/2024/01/Screenshot-2024-01-24-at-23-46-56-EXPOSITIONS-La-Chambre.png
END:VEVENT
END:VCALENDAR