BEGIN:VCALENDAR
VERSION:2.0
PRODID:-//Amamcs - Amis du Musée d&#039;Art Moderne et Contemporain de Strasbourg - ECPv6.15.20//NONSGML v1.0//EN
CALSCALE:GREGORIAN
METHOD:PUBLISH
X-WR-CALNAME:Amamcs - Amis du Musée d&#039;Art Moderne et Contemporain de Strasbourg
X-ORIGINAL-URL:https://amamcs.net
X-WR-CALDESC:Évènements pour Amamcs - Amis du Musée d&#039;Art Moderne et Contemporain de Strasbourg
REFRESH-INTERVAL;VALUE=DURATION:PT1H
X-Robots-Tag:noindex
X-PUBLISHED-TTL:PT1H
BEGIN:VTIMEZONE
TZID:Europe/Paris
BEGIN:DAYLIGHT
TZOFFSETFROM:+0100
TZOFFSETTO:+0200
TZNAME:CEST
DTSTART:20230326T010000
END:DAYLIGHT
BEGIN:STANDARD
TZOFFSETFROM:+0200
TZOFFSETTO:+0100
TZNAME:CET
DTSTART:20231029T010000
END:STANDARD
BEGIN:DAYLIGHT
TZOFFSETFROM:+0100
TZOFFSETTO:+0200
TZNAME:CEST
DTSTART:20240331T010000
END:DAYLIGHT
BEGIN:STANDARD
TZOFFSETFROM:+0200
TZOFFSETTO:+0100
TZNAME:CET
DTSTART:20241027T010000
END:STANDARD
BEGIN:DAYLIGHT
TZOFFSETFROM:+0100
TZOFFSETTO:+0200
TZNAME:CEST
DTSTART:20250330T010000
END:DAYLIGHT
BEGIN:STANDARD
TZOFFSETFROM:+0200
TZOFFSETTO:+0100
TZNAME:CET
DTSTART:20251026T010000
END:STANDARD
END:VTIMEZONE
BEGIN:VEVENT
DTSTART;TZID=Europe/Paris:20240111T150000
DTEND;TZID=Europe/Paris:20240111T150000
DTSTAMP:20260422T034933
CREATED:20231112T170256Z
LAST-MODIFIED:20231112T170256Z
UID:19723-1704985200-1704985200@amamcs.net
SUMMARY:Anna Haïfisch
DESCRIPTION:Visite de l’exposition Anna Haïfisch au Musée Tomi Ungerer\, commentées par Anna Sailer\, conservatrice du musée et commissaire de l’exposition. \nDans l’œuvre d’Anna Haifisch on trouve\, parmi bien d’autres figures : de fragiles souris en résidence de création qui tentent de dessiner alors qu’une puissante tempête de neige les isole du reste du monde ; Walt Disney\, Saul Steinberg et Tomi Ungerer traversant une crise de nerfs sur le bord de la piscine d’une maison de repos nommée le « Pavillon des visionnaires » ; des autoroutes mythiques de Los Angeles\, où les panneaux publicitaires continuent d’entretenir le rêve californien. \nLe nombre de participants est limité\, merci de vous inscrire auprès de nadya.cornu@gmail.com
URL:https://amamcs.net/evenement/anna-haifisch-2/
LOCATION:Musée Tomi Ungerer\, 2 avenue de la Marseillaise - Villa Greiner\, Strasbourg\, 67000\, France
CATEGORIES:Visites commentées
ATTACH;FMTTYPE=image/jpeg:https://amamcs.net/wp-content/uploads/2023/11/affi_MTU_Haifisch_A3_PRINT_avec3mm.jpg
END:VEVENT
END:VCALENDAR