BEGIN:VCALENDAR
VERSION:2.0
PRODID:-//Amamcs - Amis du Musée d&#039;Art Moderne et Contemporain de Strasbourg - ECPv6.15.20//NONSGML v1.0//EN
CALSCALE:GREGORIAN
METHOD:PUBLISH
X-ORIGINAL-URL:https://amamcs.net
X-WR-CALDESC:Évènements pour Amamcs - Amis du Musée d&#039;Art Moderne et Contemporain de Strasbourg
REFRESH-INTERVAL;VALUE=DURATION:PT1H
X-Robots-Tag:noindex
X-PUBLISHED-TTL:PT1H
BEGIN:VTIMEZONE
TZID:Europe/Paris
BEGIN:DAYLIGHT
TZOFFSETFROM:+0100
TZOFFSETTO:+0200
TZNAME:CEST
DTSTART:20230326T010000
END:DAYLIGHT
BEGIN:STANDARD
TZOFFSETFROM:+0200
TZOFFSETTO:+0100
TZNAME:CET
DTSTART:20231029T010000
END:STANDARD
BEGIN:DAYLIGHT
TZOFFSETFROM:+0100
TZOFFSETTO:+0200
TZNAME:CEST
DTSTART:20240331T010000
END:DAYLIGHT
BEGIN:STANDARD
TZOFFSETFROM:+0200
TZOFFSETTO:+0100
TZNAME:CET
DTSTART:20241027T010000
END:STANDARD
BEGIN:DAYLIGHT
TZOFFSETFROM:+0100
TZOFFSETTO:+0200
TZNAME:CEST
DTSTART:20250330T010000
END:DAYLIGHT
BEGIN:STANDARD
TZOFFSETFROM:+0200
TZOFFSETTO:+0100
TZNAME:CET
DTSTART:20251026T010000
END:STANDARD
END:VTIMEZONE
BEGIN:VEVENT
DTSTART;TZID=Europe/Paris:20240305T100000
DTEND;TZID=Europe/Paris:20240305T120000
DTSTAMP:20260421T234629
CREATED:20240225T222802Z
LAST-MODIFIED:20240226T011424Z
UID:19788-1709632800-1709640000@amamcs.net
SUMMARY:Visite de l'atelier de Véronique Grenier
DESCRIPTION:Nous vous proposons une rencontre avec une artiste strasbourgeoise\, dans son atelier : \nVéronique Grenier\, le mardi 5 mars de 10h à 12h\,\n1 rue de l’Ancienne Digue à Strasbourg Neudorf (Tram D\, Aristide Briand). \nhttp://veronique.t.grenier.free.fr \nLe nombre de participants est très limité pour les visites d’ateliers\, merci de vous inscrire auprès de    nadya.cornu@gmail.com
URL:https://amamcs.net/evenement/visite-de-latelier-de-veronique-grenier/
LOCATION:Atelier de Véronique Grenier\, 1 rue de l'Ancienne Digue\, Strasbourg\, France
CATEGORIES:Visites commentées
ATTACH;FMTTYPE=image/jpeg:https://amamcs.net/wp-content/uploads/2024/02/VeroniqueGrenier-.jpg
END:VEVENT
END:VCALENDAR