BEGIN:VCALENDAR
VERSION:2.0
PRODID:-//Amamcs - Amis du Musée d&#039;Art Moderne et Contemporain de Strasbourg - ECPv6.15.20//NONSGML v1.0//EN
CALSCALE:GREGORIAN
METHOD:PUBLISH
X-ORIGINAL-URL:https://amamcs.net
X-WR-CALDESC:Évènements pour Amamcs - Amis du Musée d&#039;Art Moderne et Contemporain de Strasbourg
REFRESH-INTERVAL;VALUE=DURATION:PT1H
X-Robots-Tag:noindex
X-PUBLISHED-TTL:PT1H
BEGIN:VTIMEZONE
TZID:Europe/Paris
BEGIN:DAYLIGHT
TZOFFSETFROM:+0100
TZOFFSETTO:+0200
TZNAME:CEST
DTSTART:20230326T010000
END:DAYLIGHT
BEGIN:STANDARD
TZOFFSETFROM:+0200
TZOFFSETTO:+0100
TZNAME:CET
DTSTART:20231029T010000
END:STANDARD
BEGIN:DAYLIGHT
TZOFFSETFROM:+0100
TZOFFSETTO:+0200
TZNAME:CEST
DTSTART:20240331T010000
END:DAYLIGHT
BEGIN:STANDARD
TZOFFSETFROM:+0200
TZOFFSETTO:+0100
TZNAME:CET
DTSTART:20241027T010000
END:STANDARD
BEGIN:DAYLIGHT
TZOFFSETFROM:+0100
TZOFFSETTO:+0200
TZNAME:CEST
DTSTART:20250330T010000
END:DAYLIGHT
BEGIN:STANDARD
TZOFFSETFROM:+0200
TZOFFSETTO:+0100
TZNAME:CET
DTSTART:20251026T010000
END:STANDARD
END:VTIMEZONE
BEGIN:VEVENT
DTSTART;TZID=Europe/Paris:20240313T150000
DTEND;TZID=Europe/Paris:20240313T150000
DTSTAMP:20260421T234659
CREATED:20240225T223259Z
LAST-MODIFIED:20240226T011118Z
UID:19792-1710342000-1710342000@amamcs.net
SUMMARY:Visite de l'atelier de Pierre Kieffer
DESCRIPTION:Nous vous proposons une rencontre avec un artiste strasbourgeois\, dans son atelier : \nPierre Kieffer\nmercredi 13 mars à 15h et vendredi 15 mars à 15h\n24 rue de Verdun à Strasbourg. \nLe nombre de participants est très limité pour les visites d’ateliers\, merci de vous inscrire auprès de    nadya.cornu@gmail.com \narticleatelier
URL:https://amamcs.net/evenement/visite-de-latelier-de-pierre-kieffer/
LOCATION:Atelier de Pierre Kieffer\, 24 rue de Verdun\, Strasbourg\, France
CATEGORIES:Visites commentées
ATTACH;FMTTYPE=image/png:https://amamcs.net/wp-content/uploads/2024/02/pierrekieffer.png
END:VEVENT
END:VCALENDAR