BEGIN:VCALENDAR
VERSION:2.0
PRODID:-//Amamcs - Amis du Musée d&#039;Art Moderne et Contemporain de Strasbourg - ECPv6.15.17.1//NONSGML v1.0//EN
CALSCALE:GREGORIAN
METHOD:PUBLISH
X-WR-CALNAME:Amamcs - Amis du Musée d&#039;Art Moderne et Contemporain de Strasbourg
X-ORIGINAL-URL:https://amamcs.net
X-WR-CALDESC:Évènements pour Amamcs - Amis du Musée d&#039;Art Moderne et Contemporain de Strasbourg
REFRESH-INTERVAL;VALUE=DURATION:PT1H
X-Robots-Tag:noindex
X-PUBLISHED-TTL:PT1H
BEGIN:VTIMEZONE
TZID:Europe/Paris
BEGIN:DAYLIGHT
TZOFFSETFROM:+0100
TZOFFSETTO:+0200
TZNAME:CEST
DTSTART:20230326T010000
END:DAYLIGHT
BEGIN:STANDARD
TZOFFSETFROM:+0200
TZOFFSETTO:+0100
TZNAME:CET
DTSTART:20231029T010000
END:STANDARD
BEGIN:DAYLIGHT
TZOFFSETFROM:+0100
TZOFFSETTO:+0200
TZNAME:CEST
DTSTART:20240331T010000
END:DAYLIGHT
BEGIN:STANDARD
TZOFFSETFROM:+0200
TZOFFSETTO:+0100
TZNAME:CET
DTSTART:20241027T010000
END:STANDARD
BEGIN:DAYLIGHT
TZOFFSETFROM:+0100
TZOFFSETTO:+0200
TZNAME:CEST
DTSTART:20250330T010000
END:DAYLIGHT
BEGIN:STANDARD
TZOFFSETFROM:+0200
TZOFFSETTO:+0100
TZNAME:CET
DTSTART:20251026T010000
END:STANDARD
END:VTIMEZONE
BEGIN:VEVENT
DTSTART;TZID=Europe/Paris:20241214T080000
DTEND;TZID=Europe/Paris:20241215T170000
DTSTAMP:20260421T083458
CREATED:20250119T233946Z
LAST-MODIFIED:20250129T094337Z
UID:20016-1734163200-1734282000@amamcs.net
SUMMARY:Atelier de Sylviane Laure MAES
DESCRIPTION:Sylviane Laure MAES\, plasticienne\, ouvrira les portes de son atelier à Haguenau les 14 et 15 décembre:\nMa peinture relève du figuratif abstrait dans ce sens qu’elle n’est pas informelle mais que la composition est abstraite. Les objets ou les thèmes choisis ne sont à considérer non pour ce qu’ils désignent mais pour ce qui\, en eux\, se prête au dessin. Les choses deviennent images et les images s’évaporent en signes. On ne jauge pas les thématiques\, souvent très variées\, à l’aune d’une intention iconographique mais selon les ingrédients visuels dont elles sont l’occasion. C’est une peinture aux couleurs vives et contrastées. Une dominante qui donne le ton (chaud ou froid)\, une gamme qui donne l’ambiance\, deux ou trois directions qui donnent le rythme. \nAinsi pourrait-on définir tout au moins ma démarche picturale\, à défaut de décrire et situer mon style. SL M.
URL:https://amamcs.net/evenement/atelier-de-sylviane-laure-maes/
LOCATION:Haguenau\, Haguenau\, France
CATEGORIES:Visites commentées
ATTACH;FMTTYPE=image/jpeg:https://amamcs.net/wp-content/uploads/2025/01/Maes.jpg
END:VEVENT
END:VCALENDAR