BEGIN:VCALENDAR
VERSION:2.0
PRODID:-//Amamcs - Amis du Musée d&#039;Art Moderne et Contemporain de Strasbourg - ECPv6.15.17.1//NONSGML v1.0//EN
CALSCALE:GREGORIAN
METHOD:PUBLISH
X-WR-CALNAME:Amamcs - Amis du Musée d&#039;Art Moderne et Contemporain de Strasbourg
X-ORIGINAL-URL:https://amamcs.net
X-WR-CALDESC:Évènements pour Amamcs - Amis du Musée d&#039;Art Moderne et Contemporain de Strasbourg
REFRESH-INTERVAL;VALUE=DURATION:PT1H
X-Robots-Tag:noindex
X-PUBLISHED-TTL:PT1H
BEGIN:VTIMEZONE
TZID:Europe/Paris
BEGIN:DAYLIGHT
TZOFFSETFROM:+0100
TZOFFSETTO:+0200
TZNAME:CEST
DTSTART:20240331T010000
END:DAYLIGHT
BEGIN:STANDARD
TZOFFSETFROM:+0200
TZOFFSETTO:+0100
TZNAME:CET
DTSTART:20241027T010000
END:STANDARD
BEGIN:DAYLIGHT
TZOFFSETFROM:+0100
TZOFFSETTO:+0200
TZNAME:CEST
DTSTART:20250330T010000
END:DAYLIGHT
BEGIN:STANDARD
TZOFFSETFROM:+0200
TZOFFSETTO:+0100
TZNAME:CET
DTSTART:20251026T010000
END:STANDARD
BEGIN:DAYLIGHT
TZOFFSETFROM:+0100
TZOFFSETTO:+0200
TZNAME:CEST
DTSTART:20260329T010000
END:DAYLIGHT
BEGIN:STANDARD
TZOFFSETFROM:+0200
TZOFFSETTO:+0100
TZNAME:CET
DTSTART:20261025T010000
END:STANDARD
END:VTIMEZONE
BEGIN:VEVENT
DTSTART;TZID=Europe/Paris:20250314T160000
DTEND;TZID=Europe/Paris:20250314T160000
DTSTAMP:20260421T032221
CREATED:20250306T223402Z
LAST-MODIFIED:20250306T230437Z
UID:20071-1741968000-1741968000@amamcs.net
SUMMARY:"Wild Rose"\, de Gabrielle Duplantier
DESCRIPTION:Gabrielle Duplantier grandit dans une famille d’artistes et\, depuis sa petite enfance\, ses questionnements trouvent corps dans la création artistique ; elle arrive à la photographie en autodidacte\, librement. Inspirée par la nature\, le territoire et les gens qui l’entourent\, elle développe depuis plusieurs années un travail où l’intime et la féminité sont au cœur de sa recherche. \nDans la série intitulée Wild Rose elle photographie la nature comme repli et celles et ceux qui croisent son chemin ; elle pose sur ces visages et sur ces paysages un regard tendre quasi amoureux qui montre à chaque image une grande émotion.
URL:https://amamcs.net/evenement/wild-rose-de-gabrielle-duplantier/
LOCATION:La Chambre\, 4 place d’Austerlitz\, Strasbourg\, 67000
CATEGORIES:Visites commentées
ATTACH;FMTTYPE=image/jpeg:https://amamcs.net/wp-content/uploads/2025/03/ZOE-CAT139-2-1-scaled-1.jpeg
END:VEVENT
END:VCALENDAR