BEGIN:VCALENDAR
VERSION:2.0
PRODID:-//Amamcs - Amis du Musée d&#039;Art Moderne et Contemporain de Strasbourg - ECPv6.15.17.1//NONSGML v1.0//EN
CALSCALE:GREGORIAN
METHOD:PUBLISH
X-ORIGINAL-URL:https://amamcs.net
X-WR-CALDESC:Évènements pour Amamcs - Amis du Musée d&#039;Art Moderne et Contemporain de Strasbourg
REFRESH-INTERVAL;VALUE=DURATION:PT1H
X-Robots-Tag:noindex
X-PUBLISHED-TTL:PT1H
BEGIN:VTIMEZONE
TZID:Europe/Paris
BEGIN:DAYLIGHT
TZOFFSETFROM:+0100
TZOFFSETTO:+0200
TZNAME:CEST
DTSTART:20240331T010000
END:DAYLIGHT
BEGIN:STANDARD
TZOFFSETFROM:+0200
TZOFFSETTO:+0100
TZNAME:CET
DTSTART:20241027T010000
END:STANDARD
BEGIN:DAYLIGHT
TZOFFSETFROM:+0100
TZOFFSETTO:+0200
TZNAME:CEST
DTSTART:20250330T010000
END:DAYLIGHT
BEGIN:STANDARD
TZOFFSETFROM:+0200
TZOFFSETTO:+0100
TZNAME:CET
DTSTART:20251026T010000
END:STANDARD
BEGIN:DAYLIGHT
TZOFFSETFROM:+0100
TZOFFSETTO:+0200
TZNAME:CEST
DTSTART:20260329T010000
END:DAYLIGHT
BEGIN:STANDARD
TZOFFSETFROM:+0200
TZOFFSETTO:+0100
TZNAME:CET
DTSTART:20261025T010000
END:STANDARD
END:VTIMEZONE
BEGIN:VEVENT
DTSTART;TZID=Europe/Paris:20250404T150000
DTEND;TZID=Europe/Paris:20250404T150000
DTSTAMP:20260421T014839
CREATED:20250328T092804Z
LAST-MODIFIED:20250328T093351Z
UID:20091-1743778800-1743778800@amamcs.net
SUMMARY:La bibliothèque des images. Livre et arts graphiques en dialogue (XIX°-XXI° siècles)
DESCRIPTION:Nous nous retrouverons pour les visites de l’accrochage « La bibliothèque des images. Livre et arts graphiques en dialogue (XIX°-XXI° siècles) »\, le vendredi 4 avril à 15h et le vendredi 11 avril à 15h. Ces visites seront commentées par Franck Knoery et Thierry Laps\, commissaires de l’accrochage. \nLes groupes sont limités à 20 participants. Merci de vous inscrire auprès de     nadya.cornu@gmail.com \nL’image imprimée et le livre partagent une histoire commune\, explorant ensemble de nouveaux territoires graphiques et littéraires\, redéfinissant constamment leur relation texte-image. Cette présentation\, qui met en dialogue les collections de la Bibliothèque des Musées et du MAMCS\, retrace ces rencontres\, de l’illustration du XIXe siècle au livre de bibliophilie moderne. \nCet accrochage explore ces rencontres à travers des moments historiques clés et des connexions inattendues\, mettant en lumière des enjeux communs d’œuvres parfois très éloignées.
URL:https://amamcs.net/evenement/la-bibliotheque-des-images-livre-et-arts-graphiques-en-dialogue-xix-xxi-siecles/
LOCATION:Mamcs\, 1 place Hans Jean Arp\, Strasbourg\, 67000
CATEGORIES:Visites commentées
ATTACH;FMTTYPE=image/jpeg:https://amamcs.net/wp-content/uploads/2025/03/IMG_20250220_163050.jpg
END:VEVENT
END:VCALENDAR