BEGIN:VCALENDAR
VERSION:2.0
PRODID:-//Amamcs - Amis du Musée d&#039;Art Moderne et Contemporain de Strasbourg - ECPv6.15.17.1//NONSGML v1.0//EN
CALSCALE:GREGORIAN
METHOD:PUBLISH
X-ORIGINAL-URL:https://amamcs.net
X-WR-CALDESC:Évènements pour Amamcs - Amis du Musée d&#039;Art Moderne et Contemporain de Strasbourg
REFRESH-INTERVAL;VALUE=DURATION:PT1H
X-Robots-Tag:noindex
X-PUBLISHED-TTL:PT1H
BEGIN:VTIMEZONE
TZID:Europe/Paris
BEGIN:DAYLIGHT
TZOFFSETFROM:+0100
TZOFFSETTO:+0200
TZNAME:CEST
DTSTART:20240331T010000
END:DAYLIGHT
BEGIN:STANDARD
TZOFFSETFROM:+0200
TZOFFSETTO:+0100
TZNAME:CET
DTSTART:20241027T010000
END:STANDARD
BEGIN:DAYLIGHT
TZOFFSETFROM:+0100
TZOFFSETTO:+0200
TZNAME:CEST
DTSTART:20250330T010000
END:DAYLIGHT
BEGIN:STANDARD
TZOFFSETFROM:+0200
TZOFFSETTO:+0100
TZNAME:CET
DTSTART:20251026T010000
END:STANDARD
BEGIN:DAYLIGHT
TZOFFSETFROM:+0100
TZOFFSETTO:+0200
TZNAME:CEST
DTSTART:20260329T010000
END:DAYLIGHT
BEGIN:STANDARD
TZOFFSETFROM:+0200
TZOFFSETTO:+0100
TZNAME:CET
DTSTART:20261025T010000
END:STANDARD
END:VTIMEZONE
BEGIN:VEVENT
DTSTART;TZID=Europe/Paris:20250515T160000
DTEND;TZID=Europe/Paris:20250515T160000
DTSTAMP:20260421T002001
CREATED:20250511T142957Z
LAST-MODIFIED:20250511T150500Z
UID:20106-1747324800-1747324800@amamcs.net
SUMMARY:La mer\, la terre et le ciel
DESCRIPTION:Puis\, le jeudi 15 mai à 16h\, à l’Espace Apollonia\, 23 rue Boecklin à Strasbourg\, nous vous proposons une visite de l’exposition « La mer\, la terre et le ciel » \, accompagnée par Daria Evdokimova\, chargée de projets. \nCette exposition est présentée dans le cadre du festival Arsmondo Méditerranée avec l’Opéra national du Rhin. \nMare Nostrum\, symbole de nos racines et cultures originelles\, est au cœur de nos histoires communes\, faites d’amour et de haine. La Méditerranée\, mer au milieu des terres\, a toujours été le théâtre de confrontations tragiques\, mais aussi le décor des épopées héroïques des peuples qui l’entourent. \nDes artistes issus de ces pays interrogent leur identité plurielle\, nourrie de récits extraordinaires. D’autres s’alarment de l’état préoccupant de cette mer et du bouleversement de son fragile écosystème. Certains encore mettent en lumière les flux migratoires et les aspirations humaines\, questionnant l’impact de ces réalités sur notre humanité.
URL:https://amamcs.net/evenement/la-mer-la-terre-et-le-ciel/
LOCATION:Espace Apollonia\, 23 Rue Boecklin\, Strasbourg\, 67000\, France
CATEGORIES:Visites commentées
ATTACH;FMTTYPE=image/png:https://amamcs.net/wp-content/uploads/2025/05/mer-terre-ciel.png
END:VEVENT
END:VCALENDAR