BEGIN:VCALENDAR
VERSION:2.0
PRODID:-//Amamcs - Amis du Musée d&#039;Art Moderne et Contemporain de Strasbourg - ECPv6.15.20//NONSGML v1.0//EN
CALSCALE:GREGORIAN
METHOD:PUBLISH
X-WR-CALNAME:Amamcs - Amis du Musée d&#039;Art Moderne et Contemporain de Strasbourg
X-ORIGINAL-URL:https://amamcs.net
X-WR-CALDESC:Évènements pour Amamcs - Amis du Musée d&#039;Art Moderne et Contemporain de Strasbourg
REFRESH-INTERVAL;VALUE=DURATION:PT1H
X-Robots-Tag:noindex
X-PUBLISHED-TTL:PT1H
BEGIN:VTIMEZONE
TZID:UTC
BEGIN:STANDARD
TZOFFSETFROM:+0000
TZOFFSETTO:+0000
TZNAME:UTC
DTSTART:20210101T000000
END:STANDARD
END:VTIMEZONE
BEGIN:VEVENT
DTSTART;VALUE=DATE:20221111
DTEND;VALUE=DATE:20221116
DTSTAMP:20260423T005707
CREATED:20220526T211347Z
LAST-MODIFIED:20220526T230152Z
UID:19402-1668124800-1668556799@amamcs.net
SUMMARY:Projet de Voyage à Venise - Biennale 2022
DESCRIPTION:Nous vous invitons à découvrir la biennale de Venise dans ses deux sites ainsi que les grandes expositions du Palazzo Grassi et de la Douane de mer et deux fondations- ou expositions -qui vous seront proposées en fonction des informations qui sont régulièrement données dans la presse spécialisée. Toutes ces visites sont accompagnées d’un guide parlant français pour un groupe de 25 personnes au maximum. \nNous logerons comme en 2019 dans un hôtel situé idéalement près de la place Saint Marc. Vous disposerez d’un pass qui vous permettra de profiter des transports dans la ville et dans la lagune. Deux repas du soir sont prévus. Le prix demandé par personne en chambre double est de 645 euros. \nSi ce séjour qui vous est proposé vous convient\, nous vous sommes reconnaissantes de nous le faire savoir afin de finaliser au mieux ce projet. \nIl s’agit donc d’une pré-inscription qui ne deviendra définitive qu’en cas de confirmation de votre part. Vous serez informé par une circulaire en septembre prochain du programme précis du voyage à Venise\, accompagné du bulletin d’inscription définitive. \nVotre message nous informant de votre intérêt pour ce séjour sera envoyé à l’un ou l’autre d’entre nous. Nous vous en remercions. \nNICOLE CHAMPY – nicole.champy@orange.fr\nMIREILLE NONNENMACHER – nonnenmacher.mireille@gmail.com \nLes personnes qui souhaitent se rendre à Venise par leurs propres moyens voudront bien se mettre en relation avec l’une d’entre nous\, de préférence\npar courrier.
URL:https://amamcs.net/evenement/projet-de-voyage-a-venise-biennale-2022/
LOCATION:Venise\, Venise\, Italie
CATEGORIES:Voyages
ATTACH;FMTTYPE=image/jpeg:https://amamcs.net/wp-content/uploads/2022/05/Felipe-Baeza-©La-biennale-de-Venise-1.jpeg
END:VEVENT
END:VCALENDAR