BEGIN:VCALENDAR
VERSION:2.0
PRODID:-//Amamcs - Amis du Musée d&#039;Art Moderne et Contemporain de Strasbourg - ECPv6.15.20//NONSGML v1.0//EN
CALSCALE:GREGORIAN
METHOD:PUBLISH
X-WR-CALNAME:Amamcs - Amis du Musée d&#039;Art Moderne et Contemporain de Strasbourg
X-ORIGINAL-URL:https://amamcs.net
X-WR-CALDESC:Évènements pour Amamcs - Amis du Musée d&#039;Art Moderne et Contemporain de Strasbourg
REFRESH-INTERVAL;VALUE=DURATION:PT1H
X-Robots-Tag:noindex
X-PUBLISHED-TTL:PT1H
BEGIN:VTIMEZONE
TZID:Europe/Paris
BEGIN:DAYLIGHT
TZOFFSETFROM:+0100
TZOFFSETTO:+0200
TZNAME:CEST
DTSTART:20220327T010000
END:DAYLIGHT
BEGIN:STANDARD
TZOFFSETFROM:+0200
TZOFFSETTO:+0100
TZNAME:CET
DTSTART:20221030T010000
END:STANDARD
BEGIN:DAYLIGHT
TZOFFSETFROM:+0100
TZOFFSETTO:+0200
TZNAME:CEST
DTSTART:20230326T010000
END:DAYLIGHT
BEGIN:STANDARD
TZOFFSETFROM:+0200
TZOFFSETTO:+0100
TZNAME:CET
DTSTART:20231029T010000
END:STANDARD
BEGIN:DAYLIGHT
TZOFFSETFROM:+0100
TZOFFSETTO:+0200
TZNAME:CEST
DTSTART:20240331T010000
END:DAYLIGHT
BEGIN:STANDARD
TZOFFSETFROM:+0200
TZOFFSETTO:+0100
TZNAME:CET
DTSTART:20241027T010000
END:STANDARD
END:VTIMEZONE
BEGIN:VEVENT
DTSTART;VALUE=DATE:20231021
DTEND;VALUE=DATE:20231023
DTSTAMP:20260422T035403
CREATED:20230828T082844Z
LAST-MODIFIED:20230912T131104Z
UID:19658-1697846400-1698019199@amamcs.net
SUMMARY:Voyage à Troyes autour du vitrail et de l'art contemporain
DESCRIPTION:Nous vous invitons à découvrir le département de l’Aube et la ville de Troyes en particulier les 21 et 22 octobre prochains. \nL’Aube comprend la plus belle collection au monde de vitraux répartis dans 350 édifices. \nEn décembre 2022\, la ville a créé un superbe musée consacré à cette richesse patrimoniale. La ville comprend en outre neuf monuments classés et un grand nombre de musées aussi différents que celui de la bonneterie ou la pensée ouvrière. Nous vous inviterons à découvrir la collection Levy riche de 2000 œuvres du vingtième siècle\, située dans un centre historique dont les monuments couvrent tant la période médiévale que les temps modernes et le dix-neuvième siècle. Troyes est aussi au centre d’un vignoble d’exception labellisé puisqu’il s’agit du champagne. \nUne circulaire vous sera envoyée dans la première quinzaine du mois de septembre\, comprenant les modalités d’inscription. \nProgramme et bulletin d’inscription Troyes – 21 et 22 octobre 2023
URL:https://amamcs.net/evenement/voyage-a-troyes-autour-du-vitrail-et-de-lart-contemporain/
LOCATION:Troyes\, Troyes\, 10000\, France
CATEGORIES:Voyages
ATTACH;FMTTYPE=image/jpeg:https://amamcs.net/wp-content/uploads/2023/08/cda23_hs_vitrail_entretien_moderne-tt-width-653-height-420-fill-0-crop-0-bgcolor-eeeeee-1.jpg
END:VEVENT
END:VCALENDAR