BEGIN:VCALENDAR
VERSION:2.0
PRODID:-//Amamcs - Amis du Musée d&#039;Art Moderne et Contemporain de Strasbourg - ECPv6.15.20//NONSGML v1.0//EN
CALSCALE:GREGORIAN
METHOD:PUBLISH
X-WR-CALNAME:Amamcs - Amis du Musée d&#039;Art Moderne et Contemporain de Strasbourg
X-ORIGINAL-URL:https://amamcs.net
X-WR-CALDESC:Évènements pour Amamcs - Amis du Musée d&#039;Art Moderne et Contemporain de Strasbourg
REFRESH-INTERVAL;VALUE=DURATION:PT1H
X-Robots-Tag:noindex
X-PUBLISHED-TTL:PT1H
BEGIN:VTIMEZONE
TZID:Europe/Paris
BEGIN:DAYLIGHT
TZOFFSETFROM:+0100
TZOFFSETTO:+0200
TZNAME:CEST
DTSTART:20250330T010000
END:DAYLIGHT
BEGIN:STANDARD
TZOFFSETFROM:+0200
TZOFFSETTO:+0100
TZNAME:CET
DTSTART:20251026T010000
END:STANDARD
BEGIN:DAYLIGHT
TZOFFSETFROM:+0100
TZOFFSETTO:+0200
TZNAME:CEST
DTSTART:20260329T010000
END:DAYLIGHT
BEGIN:STANDARD
TZOFFSETFROM:+0200
TZOFFSETTO:+0100
TZNAME:CET
DTSTART:20261025T010000
END:STANDARD
BEGIN:DAYLIGHT
TZOFFSETFROM:+0100
TZOFFSETTO:+0200
TZNAME:CEST
DTSTART:20270328T010000
END:DAYLIGHT
BEGIN:STANDARD
TZOFFSETFROM:+0200
TZOFFSETTO:+0100
TZNAME:CET
DTSTART:20271031T010000
END:STANDARD
END:VTIMEZONE
BEGIN:VEVENT
DTSTART;TZID=Europe/Paris:20260505T143000
DTEND;TZID=Europe/Paris:20260505T143000
DTSTAMP:20260425T195911
CREATED:20260421T194427Z
LAST-MODIFIED:20260421T200822Z
UID:20346-1777991400-1777991400@amamcs.net
SUMMARY:Petite sonate gravée pour image et piano : de la musique dans les ex-libris allemands (1890-1920)
DESCRIPTION:Mardi 5 mai à 14h30\, nous vous proposons une conférence à l’auditorium du MAMCS : « Petite sonate gravée pour image et piano : de la musique dans les ex-libris allemands (1890-1920) »\, par Oriane Barloy\, étudiante en histoire de l’art et Jean-Claude Colbus\, professeur en études germaniques. \nAu tournant du XXᵉ siècle\, l’ex-libris allemand devient un terrain d’expérimentation artistique où musique et images s’entrelacent. Ces « blasons de l’esprit »\, selon la formule de Jules de Marthold\, seront au cœur de cette conférence à deux voix.  \nEntrelacs du regard et de l’écoute :quand la notation musicale devient support esthétique. \nLe point de départ de la recherche d’Oriane Barloy est une étude approfondie de la Brahmsphantasie de Max Klinger dont le Mamcs a la chance de posséder un exemplaire. Cette oeuvre unique est à la base de ce travail sur la dimension artistique des partitions illustrées\, un domaine encore peu exploré par la recherche.\nOn découvrira ainsi comment l’art du récit visuel dialogue avec l’univers sonore\, proposant une véritable transposition graphique de l’expérience musicale. Afin d’illustrer ce propos\, d’autres cycles gravés seront évoqués comme Tristan undIsolde et Parsifal de Franz Stassen (1899) ou encore le Krämerspiegel de Michel Fingesten (1921). \nL’objet de cette conférence est de présenter le fruit d’un travail qui révèle que la partition n’est pas un simple support de notation\, mais une surface plastique à part entière\, un espace où se développe un imaginaire visuel et poétique\, dont l’oeuvre de Klinger constitue un jalon fondateur.
URL:https://amamcs.net/evenement/petite-sonate-gravee-pour-image-et-piano-de-la-musique-dans-les-ex-libris-allemands-1890-1920/
LOCATION:Auditorium du Mamcs\, 1 place Jean / Hans Arp\, Strasbourg\, 67000
CATEGORIES:Conférences
ATTACH;FMTTYPE=image/png:https://amamcs.net/wp-content/uploads/2026/04/1907-Franz-Born-Ex-libris-Hanna-Carle-110-x-80-mm-Collec-Gernot-Blum.png
END:VEVENT
BEGIN:VEVENT
DTSTART;TZID=Europe/Paris:20260513T150000
DTEND;TZID=Europe/Paris:20260513T150000
DTSTAMP:20260425T195911
CREATED:20260421T194635Z
LAST-MODIFIED:20260421T194635Z
UID:20349-1778684400-1778684400@amamcs.net
SUMMARY:Rendez-vous à l'Art-Café
DESCRIPTION:Comme chaque deuxième mercredi du mois vous pourrez retrouver\, pour une rencontre informelle\, des membres du conseil d’administration des AMAMCS à l’Art’café du MAMCS.
URL:https://amamcs.net/evenement/rendez-vous-a-lart-cafe-4/
LOCATION:Art-café / Mamcs\, 1 rue Hans Jean Arp\, Strasbourg\, 67000\, France
CATEGORIES:Café-conversations
ATTACH;FMTTYPE=image/jpeg:https://amamcs.net/wp-content/uploads/2020/12/artcafe.jpg
END:VEVENT
BEGIN:VEVENT
DTSTART;VALUE=DATE:20260521
DTEND;VALUE=DATE:20260522
DTSTAMP:20260425T195911
CREATED:20260421T194834Z
LAST-MODIFIED:20260421T222108Z
UID:20351-1779321600-1779407999@amamcs.net
SUMMARY:Journée à Ostheim\, Sélestat et Erstein
DESCRIPTION:Nous vous proposons une sortie au sud de Strasbourg à Ostheim pour découvrir l’atelier et le jardin de l’artiste Jacques Thomann. Nous aurons ensuite une visite guidée de la nouvelle exposition du FRAC Alsace à Sélestat « Parfois revenir en arrière et avancer se confondent » puis nous nous rendrons au musée Würth à Erstein pour une visite libre de l’exposition « ZOOM. Visages et œuvres de la Collection Würth » \nAprès notre visite chez Jacques Thomann\, nous déjeunerons ensemble à Ostheim à l’hôtel restaurant « Au nid de cigogne ». \nProgramme et bulletin d’inscription – Ostheim\, Sélestat et Erstein – 21 mai 2026
URL:https://amamcs.net/evenement/journee-a-ostheim-selestat-et-erstein/
CATEGORIES:Excursions
ATTACH;FMTTYPE=image/png:https://amamcs.net/wp-content/uploads/2026/04/FRAC-Alsace-Parfois-revenir-en-arriere-et-avancer-se-confondent.png
END:VEVENT
BEGIN:VEVENT
DTSTART;TZID=Europe/Paris:20260522T103000
DTEND;TZID=Europe/Paris:20260522T103000
DTSTAMP:20260425T195911
CREATED:20260421T195146Z
LAST-MODIFIED:20260421T221158Z
UID:20353-1779445800-1779445800@amamcs.net
SUMMARY:HI-YO. C'est l'écho. L'esprit de F'murr\, annoté par Camille Pote
DESCRIPTION:Vendredi 22 mai à 10h30 : Visite commentée de l’exposition « HI-YO. C’est l’écho. L’esprit de F’murr\, annoté par Camille Pote »\, au Musée Tomi Ungerer. \nDans le cadre des Rencontres de l’Illustration\, le Musée Tomi Ungerer – Centre international de l’Illustration consacre au dessinateur F’murrr sa plus grande exposition institutionnelle à ce jour\, couvrant l’ensemble de son œuvre\, de la bande dessinée à l’illustration. F’murrr (1946–2018) devient\, dans les années 1970\, un auteur de bande dessinée largement connu du grand public grâce à la série Génie des Alpages et compte bientôt parmi les représentants les plus célèbres de la BD humoristique. Les moutons philosophes\, évoluant dans des montagnes à la fois bucoliques et abyssales\, sont empreints d’un amour du non-sens et de l’absurde qui traverse toute l’œuvre du dessinateur. \nL’inscription est nécessaire pour cette visite guidée. Merci de le faire auprès de nadya.cornu@gmail.com
URL:https://amamcs.net/evenement/hi-yo-cest-lecho-lesprit-de-fmurr-annote-par-camille-pote/
LOCATION:Musée Tomi Ungerer\, 2 avenue de la Marseillaise - Villa Greiner\, Strasbourg\, 67000\, France
CATEGORIES:Visites commentées
ATTACH;FMTTYPE=image/jpeg:https://amamcs.net/wp-content/uploads/2026/04/illustration-hi-yo-c-est-l-echo-l-esprit-de-f-murrr-annote-par-camille-potte_1-1770826502.jpg
END:VEVENT
BEGIN:VEVENT
DTSTART;VALUE=DATE:20260530
DTEND;VALUE=DATE:20260531
DTSTAMP:20260425T195911
CREATED:20260421T195314Z
LAST-MODIFIED:20260421T220653Z
UID:20355-1780099200-1780185599@amamcs.net
SUMMARY:Journée à Metz et Luxembourg
DESCRIPTION:Nous vous proposons une nouvelle sortie d’une journée au Mudam à Luxembourg et au Centre Pompidou-Metz. \nNous vous proposons de découvrir des artistes tout à fait passionnants ; nous espérons vous retrouver nombreux dans les différentes expositions. \nVoir le détail dans le programme à télécharger ci-dessous. \nProgramme et bulletin d’inscription – Metz – Luxembourg – 30 mai 2026
URL:https://amamcs.net/evenement/journee-a-metz-et-luxembourg/
LOCATION:Mudam\, 3\, Park Dräi Eechelen\, Luxembourg-Kirchberg\, L-1499\, Luxembourg
CATEGORIES:Excursions
ATTACH;FMTTYPE=image/jpeg:https://amamcs.net/wp-content/uploads/2026/04/mudam-30052026-e1776809152919.jpg
END:VEVENT
END:VCALENDAR